BEGIN:VCALENDAR
VERSION:2.0
PRODID:-//ChamberMaster//Event Calendar 2.0//EN
METHOD:PUBLISH
X-PUBLISHED-TTL:P3D
REFRESH-INTERVAL:P3D
CALSCALE:GREGORIAN
BEGIN:VEVENT
DTSTART:20150807T140000Z
DTEND:20150807T200000Z
X-MICROSOFT-CDO-ALLDAYEVENT:FALSE
SUMMARY:Skidmore Summer Art Faculty Exhibition
DESCRIPTION:The Summer Arts Program teaching staff is comprised of both year-round Skidmore College art faculty and visiting artists. This year the exhibition presents paintings\, prints\, sculpture\, and photographs by nine artists: RJ Calabrese\, Terry Conrad\, Katie DeGroot\, Jane Fine\, John Galt\, David Gyscek\, Elizabeth Terhune\, Paula Wilson\, and Ilana Zwiebel.
X-ALT-DESC;FMTTYPE=text/html:The Summer Arts Program teaching staff is comprised of both year-round Skidmore College art faculty and visiting artists. This year the exhibition presents paintings\, prints\, sculpture\, and photographs by nine artists: RJ Calabrese\, Terry Conrad\, Katie DeGroot\, Jane Fine\, John Galt\, David Gyscek\, Elizabeth Terhune\, Paula Wilson\, and Ilana Zwiebel.
LOCATION:Skidmore College\, Schick Art Gallery 815 N Broadway Saratoga Springs\, NY 12866
UID:e.2254.9714
SEQUENCE:3
DTSTAMP:20260423T023544Z
URL:https://chamber.saratoga.org/events/details/skidmore-summer-art-faculty-exhibition-08-07-2015-9714
END:VEVENT

END:VCALENDAR
