BEGIN:VCALENDAR
VERSION:2.0
PRODID:-//ChamberMaster//Event Calendar 2.0//EN
METHOD:PUBLISH
X-PUBLISHED-TTL:P3D
REFRESH-INTERVAL:P3D
CALSCALE:GREGORIAN
BEGIN:VEVENT
DTSTART:20160725T140000Z
DTEND:20160805T210000Z
X-MICROSOFT-CDO-ALLDAYEVENT:FALSE
SUMMARY:Skidmore Summer Art Faculty Exhibition
DESCRIPTION:Skidmore Summer Art Faculty Exhibition\, featuring new works by Terry Conrad\, Katie DeGroot\, John Galt\, Kathy Hemingway Jones\, Lauren Sandler\, Rena Wood\, Ilana Zweschi Schick Art Gallery Monday-Friday 10 a.m.-5 p.m. For more information call 518-580-5084
X-ALT-DESC;FMTTYPE=text/html:Skidmore Summer Art Faculty Exhibition\, featuring new works by Terry Conrad\, Katie DeGroot\, John Galt\, Kathy Hemingway Jones\, Lauren Sandler\, Rena Wood\, Ilana Zweschi Schick Art Gallery Monday-Friday 10 a.m.-5 p.m. For more information call 518-580-5084
LOCATION:Skidmore College\, Schick Art Gallery 815 N Broadway Saratoga Springs\, NY 12866
UID:e.2254.17204
SEQUENCE:3
DTSTAMP:20260421T020525Z
URL:https://chamber.saratoga.org/events/details/skidmore-summer-art-faculty-exhibition-07-25-2016-17204
END:VEVENT

END:VCALENDAR
