BEGIN:VCALENDAR
VERSION:2.0
PRODID:-//ChamberMaster//Event Calendar 2.0//EN
METHOD:PUBLISH
X-PUBLISHED-TTL:P3D
REFRESH-INTERVAL:P3D
CALSCALE:GREGORIAN
BEGIN:VEVENT
DTSTART:20150306T010000Z
DTEND:20150306T030000Z
X-MICROSOFT-CDO-ALLDAYEVENT:FALSE
SUMMARY:Skidmore Student Speakers Bureau Keynote Speaker: Ta-Nehisi Coates
DESCRIPTION:Coates is a national correspondent for the Atlantic\, primarily focusing on how race is lived in the U.S. today. He has also written for The Village Voice and is a contributor to Time\, The Washington Post\, and The New York Times Magazine. He was awarded the Hillman Prize for Opinion and Analysis Journalism in 2012. In 2011\, his Atlantic blog was named by Time as one of the 25 Best in the World. 8 p.m.-Gannett Auditorium For more information call 518-580-5778
X-ALT-DESC;FMTTYPE=text/html:Coates is a national correspondent for the Atlantic\, primarily focusing on how race is lived in the U.S. today. He has also written for The Village Voice and is a contributor to Time\, The Washington Post\, and The New York Times Magazine. He was awarded the Hillman Prize for Opinion and Analysis Journalism in 2012. In 2011\, his Atlantic blog was named by Time as one of the 25 Best in the World. 8 p.m.-Gannett Auditorium For more information call 518-580-5778
LOCATION:Gannett Auditorium Skidmore College 815 N Broadway Saratoga Springs\, NY 12866
UID:e.2254.6135
SEQUENCE:3
DTSTAMP:20260423T214539Z
URL:https://chamber.saratoga.org/events/details/skidmore-student-speakers-bureau-keynote-speaker-ta-nehisi-coates-03-05-2015-6135
END:VEVENT

END:VCALENDAR
