BEGIN:VCALENDAR
VERSION:2.0
PRODID:-//ChamberMaster//Event Calendar 2.0//EN
METHOD:PUBLISH
X-PUBLISHED-TTL:P3D
REFRESH-INTERVAL:P3D
CALSCALE:GREGORIAN
BEGIN:VEVENT
DTSTART:20150205T150000Z
DTEND:20150308T200000Z
X-MICROSOFT-CDO-ALLDAYEVENT:FALSE
SUMMARY:Skidmore Student Exhibition
DESCRIPTION:The annual Skidmore Student Exhibition will be on view in Schick Art Gallery from Feb. 5 through March 8. Guest juror Laura Von Rosk will select from among works completed in 2014 by Skidmore students working in a wide range of media\, including original ceramics\, communication design\, drawing and painting\, electronic media\, fiber arts\, metals\, photography\, printmaking\, and sculpture. Prizes and gift certificates for outstanding work will be announced at the Feb. 5 opening reception.
X-ALT-DESC;FMTTYPE=text/html:The annual Skidmore Student Exhibition will be on view in Schick Art Gallery from Feb. 5 through March 8. Guest juror Laura Von Rosk will select from among works completed in 2014 by Skidmore students working in a wide range of media\, including original ceramics\, communication design\, drawing and painting\, electronic media\, fiber arts\, metals\, photography\, printmaking\, and sculpture. Prizes and gift certificates for outstanding work will be announced at the Feb. 5 opening reception.
LOCATION:Skidmore College\,Schick Art Gallery\, Saisselin Art Building 815 North Broadway Saratoga Springs\, NY 12866
UID:e.2254.4875
SEQUENCE:3
DTSTAMP:20260423T214007Z
URL:https://chamber.saratoga.org/events/details/skidmore-student-exhibition-02-05-2015-4875
END:VEVENT

END:VCALENDAR
