BEGIN:VCALENDAR
VERSION:2.0
PRODID:-//ChamberMaster//Event Calendar 2.0//EN
METHOD:PUBLISH
X-PUBLISHED-TTL:P3D
REFRESH-INTERVAL:P3D
CALSCALE:GREGORIAN
BEGIN:VEVENT
DTSTART:20160308T010000Z
DTEND:20160310T030000Z
X-MICROSOFT-CDO-ALLDAYEVENT:FALSE
SUMMARY:Skidmore College Theater:The Last Days of Judas Iscariot
DESCRIPTION:The Last Days of Judas Iscariot By Stephen Adly Guirgis\, directed by Hannah Baker 16 and Theo Saroglou 16 8 p.m.-Bernhard Theater
X-ALT-DESC;FMTTYPE=text/html:The Last Days of Judas Iscariot By Stephen Adly Guirgis\, directed by Hannah Baker 16 and Theo Saroglou<span style="line-height: 20.8px\;">&nbsp\;</span>16 8 p.m.-Bernhard Theater
LOCATION:Skidmore College\, Bernhard Theater 815 North Broadway Saratoga Springs\, NY 12866
UID:e.2254.14957
SEQUENCE:3
DTSTAMP:20260422T010218Z
URL:https://chamber.saratoga.org/events/details/skidmore-college-theater-the-last-days-of-judas-iscariot-03-07-2016-14957
END:VEVENT

END:VCALENDAR
