BEGIN:VCALENDAR
VERSION:2.0
PRODID:-//ChamberMaster//Event Calendar 2.0//EN
METHOD:PUBLISH
X-PUBLISHED-TTL:P3D
REFRESH-INTERVAL:P3D
CALSCALE:GREGORIAN
BEGIN:VEVENT
DTSTART:20150610T120000Z
DTEND:20150610T210000Z
X-MICROSOFT-CDO-ALLDAYEVENT:FALSE
SUMMARY:Skidmore College Saratoga Classic Horse Show
DESCRIPTION:World Class Hunter/Jumper horse show\nOver 500 top horses and riders from all over N. America. 8 a.m.- 5 p.m.\, free\, Union Avenue\, Yaddo Show Grounds\, skidmore.edu/saratogaclassic\, 580-5633
X-ALT-DESC;FMTTYPE=text/html:<p>World Class Hunter/Jumper horse show</p>\nOver 500 top horses and riders from all over N. America. 8 a.m.- 5 p.m.\, free\, Union Avenue\, Yaddo Show Grounds\, skidmore.edu/saratogaclassic\, 580-5633
LOCATION:Union Avenue - Show grounds
UID:e.2254.6201
SEQUENCE:3
DTSTAMP:20260423T074137Z
URL:https://chamber.saratoga.org/events/details/skidmore-college-saratoga-classic-horse-show-06-10-2015-6201
END:VEVENT

END:VCALENDAR
