BEGIN:VCALENDAR
VERSION:2.0
PRODID:-//ChamberMaster//Event Calendar 2.0//EN
METHOD:PUBLISH
X-PUBLISHED-TTL:P3D
REFRESH-INTERVAL:P3D
CALSCALE:GREGORIAN
BEGIN:VEVENT
DTSTART:20140722T020000Z
DTEND:20140722T020000Z
X-MICROSOFT-CDO-ALLDAYEVENT:FALSE
SUMMARY:Skidmore College’s 35th annual Polo by Twilight - 07/21/2014
DESCRIPTION:Polo by Twilight is now in its 35th year raising money for the Palamountain Scholarship Fund.Featuring a delicious gourmet buffet dinner\, Polo by Twilight is now in its 35th year and has supported more than 200 scholarship students by raising money for the Palamountain Scholarship Fund. \nFor further information please email or call Barb Casey bcasey@skidmore.edu or 518-580-5678
X-ALT-DESC;FMTTYPE=text/html:<p>Polo by Twilight is now in its 35th year raising money for the Palamountain Scholarship Fund.</p><p>Featuring a delicious gourmet buffet dinner\, Polo by Twilight is now in its 35<sup>th</sup> year and has supported more than 200 scholarship students by raising money for the Palamountain Scholarship Fund.&nbsp\;</p>\n<p>For further information please email or call&nbsp\;Barb Casey <a href="mailto:bcasey@skidmore.edu">bcasey@skidmore.edu</a>&nbsp\;or 518-580-5678</p>
LOCATION:Saratoga Polo Fields
UID:e.2254.4703
SEQUENCE:3
DTSTAMP:20260424T180235Z
URL:https://chamber.saratoga.org/events/details/skidmore-college-s-35th-annual-polo-by-twilight-07-21-2014-07-21-2014-4703
END:VEVENT

END:VCALENDAR
