BEGIN:VCALENDAR
VERSION:2.0
PRODID:-//ChamberMaster//Event Calendar 2.0//EN
METHOD:PUBLISH
X-PUBLISHED-TTL:P3D
REFRESH-INTERVAL:P3D
CALSCALE:GREGORIAN
BEGIN:VEVENT
DTSTART:20150725T010000Z
DTEND:20150725T030000Z
X-MICROSOFT-CDO-ALLDAYEVENT:FALSE
SUMMARY:Skidmore Chamber Music Institute: Student Interactive Performance
DESCRIPTION:Skidmore Chamber Music Institute: Student Interactive Performance Featuring institute participants. 9 a.m.- Arthur Zankel Music Center\, Ladd Hall Free and open to the public. For more information call 518-580-5546
X-ALT-DESC;FMTTYPE=text/html:Skidmore Chamber Music Institute: Student Interactive Performance Featuring institute participants. 9 a.m.- Arthur Zankel Music Center\, Ladd Hall Free and open to the public. For more information call 518-580-5546
LOCATION:Arthur Zankel Music Center Skidmore College 815 N Broadway Saratoga Springs\, NY 12866
UID:e.2254.9768
SEQUENCE:3
DTSTAMP:20260423T040832Z
URL:https://chamber.saratoga.org/events/details/skidmore-chamber-music-institute-student-interactive-performance-07-24-2015-9768
END:VEVENT

END:VCALENDAR
