BEGIN:VCALENDAR
VERSION:2.0
PRODID:-//ChamberMaster//Event Calendar 2.0//EN
METHOD:PUBLISH
X-PUBLISHED-TTL:P3D
REFRESH-INTERVAL:P3D
CALSCALE:GREGORIAN
BEGIN:VEVENT
DTSTART:20150715T233000Z
DTEND:20150716T020000Z
X-MICROSOFT-CDO-ALLDAYEVENT:FALSE
SUMMARY:Skidmore Chamber Music Institute: Decoda Faculty Performance and Interactive Wor
DESCRIPTION:Skidmore Chamber Music Institute: Decoda Faculty Performance and Interactive Workshop Free and open to the public. 7:30 p.m.-Arthur Zankel Music Center\, Ladd Hall For more information call 518-580-5546
X-ALT-DESC;FMTTYPE=text/html:Skidmore Chamber Music Institute: Decoda Faculty Performance and Interactive Workshop Free and open to the public. 7:30 p.m.-Arthur Zankel Music Center\, Ladd Hall For more information call 518-580-5546
LOCATION:Arthur Zankel Music Center Skidmore College 815 N Broadway Saratoga Springs\, NY 12866
UID:e.2254.9750
SEQUENCE:3
DTSTAMP:20260423T041319Z
URL:https://chamber.saratoga.org/events/details/skidmore-chamber-music-institute-decoda-faculty-performance-and-interactive-wor-07-15-2015-9750
END:VEVENT

END:VCALENDAR
