BEGIN:VCALENDAR
VERSION:2.0
PRODID:-//ChamberMaster//Event Calendar 2.0//EN
METHOD:PUBLISH
X-PUBLISHED-TTL:P3D
REFRESH-INTERVAL:P3D
CALSCALE:GREGORIAN
BEGIN:VEVENT
DTSTART:20160714T233000Z
DTEND:20160715T013000Z
X-MICROSOFT-CDO-ALLDAYEVENT:FALSE
SUMMARY:Skidmore Chamber Music Institute
DESCRIPTION:Skidmore Chamber Music Institute: Decoda faculty interactive performance 7:30 p.m.-Saratoga Arts Center at 320 Broadway For more information call 518-580-5447
X-ALT-DESC;FMTTYPE=text/html:Skidmore Chamber Music Institute: Decoda faculty interactive performance 7:30 p.m.-Saratoga Arts Center at 320 Broadway For more information call 518-580-5447
LOCATION:Saratoga Arts Center 320 Broadway Saratoga Springs\, NY 12866
UID:e.2254.17169
SEQUENCE:3
DTSTAMP:20260421T051052Z
URL:https://chamber.saratoga.org/events/details/skidmore-chamber-music-institute-07-14-2016-17169
END:VEVENT

END:VCALENDAR
