BEGIN:VCALENDAR
VERSION:2.0
PRODID:-//ChamberMaster//Event Calendar 2.0//EN
METHOD:PUBLISH
X-PUBLISHED-TTL:P3D
REFRESH-INTERVAL:P3D
CALSCALE:GREGORIAN
BEGIN:VEVENT
DTSTART:20150402T230000Z
DTEND:20150403T030000Z
X-MICROSOFT-CDO-ALLDAYEVENT:FALSE
SUMMARY:Skidmore Cabaret Troupe presents "Urinetown"
DESCRIPTION:Skidmore Cabaret Troupe presents "Urinetown\," a witty musical satire about capitalism\, bureaucracy\, and police brutality. This comedic show is a striking critique about a society where power is abused to the point that it becomes "a privilege to pee." 7 p.m.-Filene Recital Hall For more information call 518-580-5000
X-ALT-DESC;FMTTYPE=text/html:Skidmore Cabaret Troupe presents &quot\;Urinetown\,&quot\; a witty musical satire about capitalism\, bureaucracy\, and police brutality. This comedic show is a striking critique about a society where power is abused to the point that it becomes &quot\;a privilege to pee.&quot\; 7 p.m.-Filene Recital Hall For more information call 518-580-5000
LOCATION:Skidmore College\, Filene Recital hall 815 N. Broadway Saratoga Springs\, NY 12866
UID:e.2254.7568
SEQUENCE:3
DTSTAMP:20260423T200048Z
URL:https://chamber.saratoga.org/events/details/skidmore-cabaret-troupe-presents-urinetown-04-02-2015-7568
END:VEVENT

END:VCALENDAR
