BEGIN:VCALENDAR
VERSION:2.0
PRODID:-//ChamberMaster//Event Calendar 2.0//EN
METHOD:PUBLISH
X-PUBLISHED-TTL:P3D
REFRESH-INTERVAL:P3D
CALSCALE:GREGORIAN
BEGIN:VEVENT
DTSTART:20140912T220000Z
DTEND:20140913T000000Z
X-MICROSOFT-CDO-ALLDAYEVENT:FALSE
SUMMARY:Sitar Concert - 09/12/2014
DESCRIPTION:Sitar Concert\, Featuring Skidmore faculty member Veena ChandraFeaturing Skidmore faculty member Veena Chandra 8 p.m.-Arthur Zankel Music Center\, Ladd Concert Hall For more information call 518-580-5321 or go to www.skidmore.edu/Zankel
X-ALT-DESC;FMTTYPE=text/html:<p>Sitar Concert\, Featuring Skidmore faculty member Veena Chandra</p><p>Featuring Skidmore faculty member Veena Chandra</p> <p>8 p.m.-Arthur Zankel Music Center\, Ladd Concert Hall</p> <span style="font-size: 12pt\; font-family: Times New Roman\,serif\;">For more information call 518-580-5321 or go to www.skidmore.edu/Zankel</span>
LOCATION:Arthur Zankel Music Center\, Skidmore College
UID:e.2254.3538
SEQUENCE:3
DTSTAMP:20260424T110849Z
URL:https://chamber.saratoga.org/events/details/sitar-concert-09-12-2014-09-12-2014-3538
END:VEVENT

END:VCALENDAR
