BEGIN:VCALENDAR
VERSION:2.0
PRODID:-//ChamberMaster//Event Calendar 2.0//EN
METHOD:PUBLISH
X-PUBLISHED-TTL:P3D
REFRESH-INTERVAL:P3D
CALSCALE:GREGORIAN
BEGIN:VEVENT
DTSTART:20150803T220000Z
DTEND:20150804T020000Z
X-MICROSOFT-CDO-ALLDAYEVENT:FALSE
SUMMARY:Siro's Hosts 6th Annual Cocktail Party Fundraiser for Old Friends at Cabin Creek
DESCRIPTION:Siro's\, at 168 Lincoln Ave. in Saratoga Springs\, NY will host Old Friends at Cabin Creek?s 6th Annual Cocktail Party on Monday\, August 3rd from 6 pm to 10 pm. Host Rosie Napravnik\, along with JoAnn and Mark Pepper\, owners of Old Friends at Cabin Creek and Michael Blowen\, owner of Old Friends\, Inc. in Georgetown\, KY\, will award Jack Knowlton\, with the ?Old Friends? award. Knowlton\, owner of Kentucky Derby winner\, Funny Cide\, is being recognized for his contributions to racing and for his support of Old Friends and dignified retirement for all racehorses. The evening will include hors d?oeuvres\, dinner\, music\, a cash bar and a live auction. Tickets for the event are $100. each and can be purchased in advance at www.oldfriendsatcabincreek.com\, by mail or at the farm. Old Friends at Cabin Creek\, The Bobby Frankel Division and the first NY satellite farm of Old Friends\, Inc. in Georgetown\, KY is located at 483 Sand Hill Rd. in Greenfield Center\, NY 12833\, has been in operation since 2009 and is a 501 3 non-profit organization dedicated to dignified retirement of thoroughbred race horses. It is currently the forever home to 14 retired thoroughbred racehorses and recently welcomed NY bred Be Bullish to the herd. For more information visit www.oldfriendsatcabincreek.com.
X-ALT-DESC;FMTTYPE=text/html:Siro&#39\;s\, at 168 Lincoln Ave. in Saratoga Springs\, NY will host Old Friends at Cabin Creek?s 6th Annual Cocktail Party on Monday\, August 3rd from 6 pm to 10 pm. Host Rosie Napravnik\, along with JoAnn and Mark Pepper\, owners of Old Friends at Cabin Creek and Michael Blowen\, owner of Old Friends\, Inc. in Georgetown\, KY\, will award Jack Knowlton\, with the ?Old Friends? award. Knowlton\, owner of Kentucky Derby winner\, Funny Cide\, is being recognized for his contributions to racing and for his support of Old Friends and dignified retirement for all racehorses. The evening will include hors d?oeuvres\, dinner\, music\, a cash bar and a live auction. Tickets for the event are $100. each and can be purchased in advance at www.oldfriendsatcabincreek.com\, by mail or at the farm. Old Friends at Cabin Creek\, The Bobby Frankel Division and the first NY satellite farm of Old Friends\, Inc. in Georgetown\, KY is located at 483 Sand Hill Rd. in Greenfield Center\, NY 12833\, has been in operation since 2009 and is a 501&copy\;3 non-profit organization dedicated to dignified retirement of thoroughbred race horses. It is currently the forever home to 14 retired thoroughbred racehorses and recently welcomed NY bred Be Bullish to the herd. For more information visit www.oldfriendsatcabincreek.com.
LOCATION:Siro's\, 168 Lincoln Ave. Saratoga Springs\, NY 12866
UID:e.2254.10103
SEQUENCE:3
DTSTAMP:20260423T024114Z
URL:https://chamber.saratoga.org/events/details/siro-s-hosts-6th-annual-cocktail-party-fundraiser-for-old-friends-at-cabin-creek-08-03-2015-10103
END:VEVENT

END:VCALENDAR
