BEGIN:VCALENDAR
VERSION:2.0
PRODID:-//ChamberMaster//Event Calendar 2.0//EN
METHOD:PUBLISH
X-PUBLISHED-TTL:P3D
REFRESH-INTERVAL:P3D
CALSCALE:GREGORIAN
BEGIN:VEVENT
DTSTART:20161110T230000Z
DTEND:20161111T030000Z
X-MICROSOFT-CDO-ALLDAYEVENT:FALSE
SUMMARY:Sipping For Seniors
DESCRIPTION:Come. Sip. TIP BIG! It's that time of year again! Join us at Bailey's Saratoga for Sipping for Seniors! All tips and a portion of the proceeds on all food and drinks to benefit the Saratoga Senior Center. Open to the public. \n\n\n\nCheck out Bailey's here: http://baileyscafe.com/menu/\n\n\n\nGuest bar tenders TBA!
X-ALT-DESC;FMTTYPE=text/html:<span style="color: rgb(75\, 79\, 86)\; font-family: helvetica\,arial\,sans-serif\; font-size: 14px\;">Come. Sip. TIP BIG! It&#39\;s that time of year again! Join us at&nbsp\;</span><a href="https://www.facebook.com/BaileysSaratoga/" style="color: rgb(54\, 88\, 153)\; font-family: helvetica\, arial\, sans-serif\; font-size: 14px\; text-decoration: none\; cursor: pointer\;">Bailey&#39\;s Saratoga</a><span style="color: rgb(75\, 79\, 86)\; font-family: helvetica\,arial\,sans-serif\; font-size: 14px\;">&nbsp\;for Sipping for Seniors! All tips and a portion of the proceeds on all food and drinks to benefit the&nbsp\;</span><a href="https://www.facebook.com/SaratogaSeniorCenter/" style="color: rgb(54\, 88\, 153)\; font-family: helvetica\, arial\, sans-serif\; font-size: 14px\; text-decoration: none\; cursor: pointer\;">Saratoga Senior Center</a><span style="color: rgb(75\, 79\, 86)\; font-family: helvetica\,arial\,sans-serif\; font-size: 14px\;">. Open to the public.&nbsp\;</span><br />\n<br />\n<span style="color: rgb(75\, 79\, 86)\; font-family: helvetica\,arial\,sans-serif\; font-size: 14px\;">Check out Bailey&#39\;s here:&nbsp\;</span><a href="http://l.facebook.com/l.php?u=http%3A%2F%2Fbaileyscafe.com%2Fmenu%2F&amp\;h=5AQEDPhZP&amp\;enc=AZO9c-ESBEwAqyd624geAgtRkPF4gnAPjCtCdktNcfxzQHoTeweY1XGPlHM5mFyVxf8&amp\;s=1" rel="nofollow nofollow" style="color: rgb(54\, 88\, 153)\; font-family: helvetica\, arial\, sans-serif\; font-size: 14px\; text-decoration: none\; cursor: pointer\;" target="_blank">http://baileyscafe.com/menu/</a><br />\n<br />\n<span style="color: rgb(75\, 79\, 86)\; font-family: helvetica\,arial\,sans-serif\; font-size: 14px\;">Guest bar tenders TBA!</span>
LOCATION:Bailey's Saratoga Springs 37 Phila Street Saratoga Springs\, NY 12866
UID:e.2254.20841
SEQUENCE:3
DTSTAMP:20260420T200641Z
URL:https://chamber.saratoga.org/events/details/sipping-for-seniors-20841
END:VEVENT

END:VCALENDAR
