BEGIN:VCALENDAR
VERSION:2.0
PRODID:-//ChamberMaster//Event Calendar 2.0//EN
METHOD:PUBLISH
X-PUBLISHED-TTL:P3D
REFRESH-INTERVAL:P3D
CALSCALE:GREGORIAN
BEGIN:VEVENT
DTSTART:20170209T230000Z
DTEND:20170210T030000Z
X-MICROSOFT-CDO-ALLDAYEVENT:FALSE
SUMMARY:Sipping For Seniors
DESCRIPTION:Stop. Sip. TIP BIG! Come down to Bailey's Cafe in Saratoga for Sipping For Seniors! All tips and 20% of food and beverage sales to benefit the Senior Center.\n\n\n\nGuest bartenders TBA.
X-ALT-DESC;FMTTYPE=text/html:<span style="color: rgb(32\, 32\, 32)\; font-family: arial\,sans-serif\; font-size: 16px\;">Stop. Sip. TIP BIG! Come down to Bailey&rsquo\;s Cafe in Saratoga for Sipping For Seniors! All tips and 20% of food and beverage sales to benefit the Senior Center.<br />\n<br />\nGuest bartenders TBA.</span>
LOCATION:Bailey's Cafe 37 Phila St Saratoga Springs\, NY 12866
UID:e.2254.22406
SEQUENCE:3
DTSTAMP:20260420T101925Z
URL:https://chamber.saratoga.org/events/details/sipping-for-seniors-02-09-2017-22406
END:VEVENT

END:VCALENDAR
