BEGIN:VCALENDAR
VERSION:2.0
PRODID:-//ChamberMaster//Event Calendar 2.0//EN
METHOD:PUBLISH
X-PUBLISHED-TTL:P3D
REFRESH-INTERVAL:P3D
CALSCALE:GREGORIAN
BEGIN:VEVENT
DTSTART:20150114T230000Z
DTEND:20150115T030000Z
X-MICROSOFT-CDO-ALLDAYEVENT:FALSE
SUMMARY:Sipping For Seniors
DESCRIPTION:ANOTHER SIPPING FOR SENIORS! On Wednesday\, January 14 from 6-10 pm Gaffney?s will be hosting a fundraiser donating 20% of sales and all tips to the Senior Center. Thank you to Gaffney?s and to our Guest Bartenders: Karen Ricci\, Lizette Orozco\, Jenny Witte\, Robin Dalton\, Chrissy Goodness\, Abe Sultan\, Dr. Martin Ferrillo\, Tina Nigro\, Mary Lentini\, Bob West and more!! See you at 16 Caroline Street\, Saratoga Springs\, NY So stop in? & tip BIG!
X-ALT-DESC;FMTTYPE=text/html:ANOTHER SIPPING FOR SENIORS! On Wednesday\, January 14 from 6-10 pm Gaffney?s will be hosting a fundraiser donating 20% of sales and all tips to the Senior Center. Thank you to Gaffney?s and to our Guest Bartenders: Karen Ricci\, Lizette Orozco\, Jenny Witte\, Robin Dalton\, Chrissy Goodness\, Abe Sultan\, Dr. Martin Ferrillo\, Tina Nigro\, Mary Lentini\, Bob West and more!! See you at 16 Caroline Street\, Saratoga Springs\, NY So stop in? &amp\; tip BIG!
LOCATION:Gaffney's\, 16 Caroline Street
UID:e.2254.936
SEQUENCE:3
DTSTAMP:20260424T051829Z
URL:https://chamber.saratoga.org/events/details/sipping-for-seniors-01-14-2015-936
END:VEVENT

END:VCALENDAR
