BEGIN:VCALENDAR
VERSION:2.0
PRODID:-//ChamberMaster//Event Calendar 2.0//EN
METHOD:PUBLISH
X-PUBLISHED-TTL:P3D
REFRESH-INTERVAL:P3D
CALSCALE:GREGORIAN
BEGIN:VEVENT
DTSTART:20150718T233000Z
DTEND:20150719T010000Z
X-MICROSOFT-CDO-ALLDAYEVENT:FALSE
SUMMARY:Simon Mulligan Piano Recital
DESCRIPTION:Celebrated pianist Simon Mulligan returns to The Sembrich for an evening of elegance and sophistication\; a Mozart sonata\, Schubert impromptus\, and music by Ravel as well as Franz Liszt's arrangement of our season's featured work\, Mendelssohn's "On Wings of Song."
X-ALT-DESC;FMTTYPE=text/html:Celebrated pianist Simon Mulligan returns to The Sembrich for an evening of elegance and sophistication\; a Mozart sonata\, Schubert impromptus\, and music by Ravel as well as Franz Liszt&#39\;s arrangement of our season&#39\;s featured work\, Mendelssohn&#39\;s &quot\;On Wings of Song.&quot\;
LOCATION:The Sembrich\, 4800 Lakeshore Drive\, Bolton Landing\, NY
UID:e.2254.10032
SEQUENCE:3
DTSTAMP:20260423T040832Z
URL:https://chamber.saratoga.org/events/details/simon-mulligan-piano-recital-07-18-2015-10032
END:VEVENT

END:VCALENDAR
