BEGIN:VCALENDAR
VERSION:2.0
PRODID:-//ChamberMaster//Event Calendar 2.0//EN
METHOD:PUBLISH
X-PUBLISHED-TTL:P3D
REFRESH-INTERVAL:P3D
CALSCALE:GREGORIAN
BEGIN:VEVENT
DTSTART:20150729T173000Z
DTEND:20150729T190000Z
X-MICROSOFT-CDO-ALLDAYEVENT:FALSE
SUMMARY:Silver Bay Quartet
DESCRIPTION:The Silver Bay Quartet brings a program of classical chamber music to The Sembrich\, highlighted by a performance of Debussy's evocative Quartet in G minor\, Op. 10. Originally founded in 1939 and under the current leadership of violinist Martin Meade\, the Silver Bay Quartet serves in residence at the nearby Silver Bay Association and performs there regularly\, at weekly recitals\, daily evening vespers\, and at Sunday morning worship services.
X-ALT-DESC;FMTTYPE=text/html:The Silver Bay Quartet brings a program of classical chamber music to The Sembrich\, highlighted by a performance of Debussy&#39\;s evocative Quartet in G minor\, Op. 10. Originally founded in 1939 and under the current leadership of violinist Martin Meade\, the Silver Bay Quartet serves in residence at the nearby Silver Bay Association and performs there regularly\, at weekly recitals\, daily evening vespers\, and at Sunday morning worship services.
LOCATION:The Sembrich\, 4800 Lakeshore Drive\, Bolton Landing\, NY
UID:e.2254.10038
SEQUENCE:3
DTSTAMP:20260423T040432Z
URL:https://chamber.saratoga.org/events/details/silver-bay-quartet-07-29-2015-10038
END:VEVENT

END:VCALENDAR
