BEGIN:VCALENDAR
VERSION:2.0
PRODID:-//ChamberMaster//Event Calendar 2.0//EN
METHOD:PUBLISH
X-PUBLISHED-TTL:P3D
REFRESH-INTERVAL:P3D
CALSCALE:GREGORIAN
BEGIN:VEVENT
DTSTART:20161015T233000Z
DTEND:20161030T200000Z
X-MICROSOFT-CDO-ALLDAYEVENT:FALSE
SUMMARY:Shrek The Musical at HMT
DESCRIPTION:Music by Jeanine Tesori. Book and Lyrics by David Lindsay-Abaire. Based on the DreamWorks Animation Motion Picture and the book by William Steig. With a great score and a heartwarming\, funny plot\, this award-winning twisted fairy tale is irreverent fun. Join HMT for this story of everyone's favorite ogre who goes on a life-changing adventure. The Prince isn't charming\, the Princess isn't sleeping\, the sidekick isn't helping and the orge is the hero. Unexpected\, wise-cracking and clever   musicals will never be the same again! Weekends October 15-30.
X-ALT-DESC;FMTTYPE=text/html:Music by Jeanine Tesori. Book and Lyrics by David Lindsay-Abaire. Based on the DreamWorks Animation Motion Picture and the book by William Steig. With a great score and a heartwarming\, funny plot\, this award-winning twisted fairy tale is irreverent fun. Join HMT for this story of everyone&rsquo\;s favorite ogre who goes on a life-changing adventure. The Prince isn&rsquo\;t charming\, the Princess isn&rsquo\;t sleeping\, the sidekick isn&rsquo\;t helping and the orge is the hero. Unexpected\, wise-cracking and clever &ndash\; musicals will never be the same again! Weekends October 15-30.
LOCATION:HMT at The Spa Little Theater 19 Roosevelt Drive Saratoga Spa State Park Saratoga Springs\, NY 12866 www.homemadetheater.org/us/contact-us/
UID:e.2254.17318
SEQUENCE:3
DTSTAMP:20260420T214814Z
URL:https://chamber.saratoga.org/events/details/shrek-the-musical-at-hmt-10-15-2016-17318
END:VEVENT

END:VCALENDAR
