BEGIN:VCALENDAR
VERSION:2.0
PRODID:-//ChamberMaster//Event Calendar 2.0//EN
METHOD:PUBLISH
X-PUBLISHED-TTL:P3D
REFRESH-INTERVAL:P3D
CALSCALE:GREGORIAN
BEGIN:VEVENT
DTSTART:20160907T220000Z
DTEND:20160907T233000Z
X-MICROSOFT-CDO-ALLDAYEVENT:FALSE
SUMMARY:Shoulder Pain And Rotator Cuff Tears
DESCRIPTION:This seminar will outline the most common causes of shoulder pain\, including injuries to the rotator cuff.  We will discuss causes of shoulder pain\, and review the most up to date and state of the art treatment recommendations.  We will discuss the spectrum of treatment options\, from nonoperative modalities to surgical intervention\, including the expected postoperative recovery. Speakers are Dr. Matt Stein of OrthoNY and Dominick Marchesiello\, PT\, DPT of Regional Therapy Center.\n\nPlease join us to learn more about what is causing your shoulder pain and what you can do about it!.
X-ALT-DESC;FMTTYPE=text/html:<p>This seminar will outline the most common causes of shoulder pain\, including injuries to the rotator cuff.&nbsp\; We will discuss causes of shoulder pain\, and review the most up to date and state of the art treatment recommendations.&nbsp\; We will discuss the spectrum of treatment options\, from nonoperative modalities to surgical intervention\, including the expected postoperative recovery. Speakers are Dr. Matt Stein of OrthoNY and Dominick Marchesiello\, PT\, DPT of Regional Therapy Center.</p>\n\n<p>Please join us to learn more about what is causing your shoulder pain and what you can do about it!.</p>\n\n<p>&nbsp\;</p>\n
LOCATION:MaltaMed Emergent Care\, Conference Room\, 6 Medical Park Drive\, Malta\, NY
UID:e.2254.18605
SEQUENCE:3
DTSTAMP:20260421T004058Z
URL:https://chamber.saratoga.org/events/details/shoulder-pain-and-rotator-cuff-tears-09-07-2016-18605
END:VEVENT

END:VCALENDAR
