BEGIN:VCALENDAR
VERSION:2.0
PRODID:-//ChamberMaster//Event Calendar 2.0//EN
METHOD:PUBLISH
X-PUBLISHED-TTL:P3D
REFRESH-INTERVAL:P3D
CALSCALE:GREGORIAN
BEGIN:VEVENT
DTSTART:20150123T220000Z
DTEND:20150124T020000Z
X-MICROSOFT-CDO-ALLDAYEVENT:FALSE
SUMMARY:Shmaltz Brewing Company IPA Fest
DESCRIPTION:Join us for the Shmaltz Brewing IPA Fest on Friday January 23. We'll have great selection of regional IPAs\, music by Candy Ambulance\, Saratoga's alternative indie grunge band. Pies on Wheels will be firing up the Wood Fired Pizza Oven truck to serve pies all night.\n\nFriday\, January 23\, 5pm - 9pm. \n\nBuy tickets in advance or pay at the door: \n\n$20 Advance Ticket includes - Souvenier tasting glass\, 6 drink tokens + food. Advanced ticket buyers get 20% off all beer to go and merchandise. \n\nAdditional drink tokens can be purchased at the brewery.\n\nShmaltz will be pouring all of our IPAs including Hop Manna IPA\, Bittersweet Lenny's RIPA\, Death of a Contract Brewer Black IPA\, Tequila Barrel Aged Hop Manna\, St. Lenny's Belgian Style RIPA.\n\nPlus guest IPAs:\n\nConey Island Brewing Co. NEW Overpass IPA\n\n21st Amendment Brew Free or Die IPA\n\nKuka Beer IPA\n\nElysian Space Dust IPA  \n\nAdirondack Brewing Iroquois Pale Ale and Black Watch IPA \n\nDruthers \n\nand more to be announced.
X-ALT-DESC;FMTTYPE=text/html:<p>Join us for the Shmaltz Brewing IPA Fest on Friday January 23. We&#39\;ll have great selection of regional IPAs\, music by Candy Ambulance\, Saratoga&#39\;s alternative indie grunge band. <a href="http://piesonwheels.com/">Pies on Wheels</a> will be firing up the Wood Fired Pizza Oven truck to serve pies all night.</p>\n\n<p><strong>Friday\, January 23\, 5pm - 9pm.&nbsp\;</strong></p>\n\n<p>Buy tickets in advance or pay at the door:&nbsp\;</p>\n\n<p>$20 Advance Ticket includes - Souvenier tasting glass\, 6 drink tokens + food. Advanced ticket buyers get 20% off all beer to go and merchandise.&nbsp\;</p>\n\n<p>Additional drink tokens can be purchased at the brewery.</p>\n\n<p>Shmaltz will be pouring all of our IPAs including Hop Manna IPA\, Bittersweet Lenny&#39\;s RIPA\, Death of a Contract Brewer Black IPA\, Tequila Barrel Aged Hop Manna\, St. Lenny&#39\;s Belgian Style RIPA.</p>\n\n<p><strong>Plus guest IPAs:</strong></p>\n\n<p>Coney Island Brewing Co. NEW Overpass IPA<br />\n21st Amendment Brew Free or Die IPA<br />\nKuka Beer IPA<br />\nElysian Space Dust IPA&nbsp\;&nbsp\;<br />\nAdirondack Brewing Iroquois Pale Ale and Black Watch IPA&nbsp\;<br />\nDruthers&nbsp\;</p>\n\n<p>and more to be announced.</p>\n
LOCATION:6 Fairchild Square\, Clifton Park\, NY 12065
UID:e.2254.943
SEQUENCE:3
DTSTAMP:20260424T015213Z
URL:https://chamber.saratoga.org/events/details/shmaltz-brewing-company-ipa-fest-01-23-2015-943
END:VEVENT

END:VCALENDAR
