BEGIN:VCALENDAR
VERSION:2.0
PRODID:-//ChamberMaster//Event Calendar 2.0//EN
METHOD:PUBLISH
X-PUBLISHED-TTL:P3D
REFRESH-INTERVAL:P3D
CALSCALE:GREGORIAN
BEGIN:VEVENT
DTSTART:20150806T000000Z
DTEND:20150806T020000Z
X-MICROSOFT-CDO-ALLDAYEVENT:FALSE
SUMMARY:Shipwrecked! The Amazing Adventures of Louis de Rougement (as Told by Himself)
DESCRIPTION:Shipwrecked! An Entertainment The Amazing Adventures of Louis de Rougemont (as Told by Himself)\n\nWritten by: Donald Margulies\n\nDirected by: David Baecker\n\nThe adventurous Louis de Rougemont invites you to hear his amazing story of bravery\, survival and celebrity that left nineteenth century England spellbound. Dare to be whisked away in a story of the high seas\, populated by exotic islanders\, flying wombats\, giant sea turtles and a monstrous man-eating octopus. Shipwrecked examines how far we're willing to blur the line between fact and fiction in order to leave our mark on the world.
X-ALT-DESC;FMTTYPE=text/html:<h2><em>Shipwrecked! An Entertainment&mdash\;The Amazing Adventures of Louis de Rougemont&nbsp\;(as Told by Himself)</em></h2>\n\n<p><strong>Written by: Donald Margulies</strong><br />\n<strong>Directed by:&nbsp\;David Baecker</strong></p>\n\n<p>The adventurous Louis de Rougemont invites you to hear his amazing story of bravery\, survival and celebrity that left nineteenth century England spellbound. Dare to be whisked away in a story of the high seas\, populated by exotic islanders\, flying wombats\, giant sea turtles and a monstrous man-eating octopus.&nbsp\;<em>Shipwrecked</em>&nbsp\;examines how far we&rsquo\;re willing to blur the line between fact and fiction in order to leave our mark on the world.</p>\n
LOCATION:The Janet Kinghorn Bernhard Theater - BLACKBOX\, Skidmore College
UID:e.2254.9660
SEQUENCE:3
DTSTAMP:20260423T024115Z
URL:https://chamber.saratoga.org/events/details/shipwrecked-the-amazing-adventures-of-louis-de-rougement-as-told-by-himself-08-05-2015-9660
END:VEVENT

END:VCALENDAR
