BEGIN:VCALENDAR
VERSION:2.0
PRODID:-//ChamberMaster//Event Calendar 2.0//EN
METHOD:PUBLISH
X-PUBLISHED-TTL:P3D
REFRESH-INTERVAL:P3D
CALSCALE:GREGORIAN
BEGIN:VEVENT
DTSTART:20150819T173000Z
DTEND:20150819T200000Z
X-MICROSOFT-CDO-ALLDAYEVENT:FALSE
SUMMARY:Sherita
DESCRIPTION:Sherita explores the acoustic sounds of Macedonia\, Turkey\, Greece\, Albania\, and the Middle East and gathers inspiration from the sounds of bygone eras to create music that is alive in the present moment. Through exploration of the acoustic traditions of the Balkans and the Near East\, Sherita makes original music that is at once both ancient and modern\; by turns haunting\, exuberant\, and enchanting.
X-ALT-DESC;FMTTYPE=text/html:Sherita explores the acoustic sounds of Macedonia\, Turkey\, Greece\, Albania\, and the Middle East and gathers inspiration from the sounds of bygone eras to create music that is alive in the present moment. Through exploration of the acoustic traditions of the Balkans and the Near East\, Sherita makes original music that is at once both ancient and modern\; by turns haunting\, exuberant\, and enchanting.
LOCATION:The Sembrich\, 4800 Lakeshore Drive\, Bolton Landing\, NY
UID:e.2254.10045
SEQUENCE:3
DTSTAMP:20260423T022756Z
URL:https://chamber.saratoga.org/events/details/sherita-08-19-2015-10045
END:VEVENT

END:VCALENDAR
