BEGIN:VCALENDAR
VERSION:2.0
PRODID:-//ChamberMaster//Event Calendar 2.0//EN
METHOD:PUBLISH
X-PUBLISHED-TTL:P3D
REFRESH-INTERVAL:P3D
CALSCALE:GREGORIAN
BEGIN:VEVENT
DTSTART:20160407T230000Z
DTEND:20160408T010000Z
X-MICROSOFT-CDO-ALLDAYEVENT:FALSE
SUMMARY:Sheer Madness: From Federal Prosecutor to Federal Prisoner
DESCRIPTION:Local author\, attorney Andrew McKenna tells his story of achievement\, addiction\, personal recovery and service to others. He offers insight from his experience as Federal Prosecutor to Federal Prisoner. He is an engaging and motivating speaker. Sponsored by RAIS (Recovery Advocacy in Saratoga)\, the Saratoga Springs Public Library and The Prevention Council. Event is Free and open to the public. Book signing will follow talk.
X-ALT-DESC;FMTTYPE=text/html:Local author\, attorney Andrew McKenna tells his story of achievement\, addiction\, personal recovery and service to others. He offers insight from his experience as Federal Prosecutor to Federal Prisoner. He is an engaging and motivating speaker. Sponsored by RAIS (Recovery Advocacy in Saratoga)\, the Saratoga Springs Public Library and The Prevention Council. Event is Free and open to the public. Book signing will follow talk.
LOCATION:Saratoga Springs Public Library\, Dutcher Room\, 1st fl.
UID:e.2254.15637
SEQUENCE:3
DTSTAMP:20260421T164328Z
URL:https://chamber.saratoga.org/events/details/sheer-madness-from-federal-prosecutor-to-federal-prisoner-04-07-2016-15637
END:VEVENT

END:VCALENDAR
