BEGIN:VCALENDAR
VERSION:2.0
PRODID:-//ChamberMaster//Event Calendar 2.0//EN
METHOD:PUBLISH
X-PUBLISHED-TTL:P3D
REFRESH-INTERVAL:P3D
CALSCALE:GREGORIAN
BEGIN:VEVENT
DTSTART:20150830T200000Z
DTEND:20150830T230000Z
X-MICROSOFT-CDO-ALLDAYEVENT:FALSE
SUMMARY:Sharon's Grave
DESCRIPTION:A glimpse of the opera-in-progress by Sembrich Artistic Director Richard Wargo based on the rugged drama by Irish playwright John B. Keane with stage direction by Dorothy Danner. A collaborative venture with the Seagle Music Colony in its centennial season\, this program is funded\, in part\, by a grant from the National Endowment for the Arts.
X-ALT-DESC;FMTTYPE=text/html:A glimpse of the opera-in-progress by Sembrich Artistic Director Richard Wargo based on the rugged drama by Irish playwright John B. Keane with stage direction by Dorothy Danner. A collaborative venture with the Seagle Music Colony in its centennial season\, this program is funded\, in part\, by a grant from the National Endowment for the Arts.
LOCATION:The Sembrich\, 4800 Lakeshore Drive\, Bolton Landing\, NY
UID:e.2254.10048
SEQUENCE:3
DTSTAMP:20260423T022306Z
URL:https://chamber.saratoga.org/events/details/sharon-s-grave-08-30-2015-10048
END:VEVENT

END:VCALENDAR
