BEGIN:VCALENDAR
VERSION:2.0
PRODID:-//ChamberMaster//Event Calendar 2.0//EN
METHOD:PUBLISH
X-PUBLISHED-TTL:P3D
REFRESH-INTERVAL:P3D
CALSCALE:GREGORIAN
BEGIN:VEVENT
DTSTART:20140920T180000Z
DTEND:20140921T000000Z
X-MICROSOFT-CDO-ALLDAYEVENT:FALSE
SUMMARY:SHAKEN\, NOT STIRRED (WITH A FASHION TWIST!) - 09/20/2014
DESCRIPTION:A fashion show with a Zumba dance party to benefit the Annual We Build People Scholarship Campaign.Join us for our Party for a Cause on Saturday\, September 20th at the Saratoga Regional YMCA’s Saratoga Springs Branch for a fashion show with a Zumba dance party to benefit the Annual We Build People Scholarship Campaign.4:00 pm: Doors Open\n4:30 pm: Fashion Show\n5:45 pm: Zumba Time!There will be local businesses displaying their wears. Hors d’oeuvres and cash bar- including the featured Zumbatini!Participants:\n$25 prior to September 15\, 2014\n$35 at the eventSponsors/Businesses:\n$50 prior to September 15\, 2014\n$75 at the eventTo order tickets\, please click here or contact kendra.vickers@srymca.org for more information.
X-ALT-DESC;FMTTYPE=text/html:<p>A fashion show with a Zumba dance party to benefit the Annual We Build People Scholarship Campaign.</p><p style="margin-top: 0.2em\; margin-bottom: 0.8em\; line-height: 1.3em\; font-family: Verdana\, Arial\, sans-serif\; font-size: 14px\; background-color: rgb(255\, 255\, 255)\;">Join us for our Party for a Cause on Saturday\, September 20th at the Saratoga Regional YMCA’s Saratoga Springs Branch for a fashion show with a Zumba dance party to benefit the Annual We Build People Scholarship Campaign.</p><p style="margin-top: 0.2em\; margin-bottom: 0.8em\; line-height: 1.3em\; font-family: Verdana\, Arial\, sans-serif\; font-size: 14px\; background-color: rgb(255\, 255\, 255)\;">4:00 pm: Doors Open<br>4:30 pm: Fashion Show<br>5:45 pm: Zumba Time!</p><p style="margin-top: 0.2em\; margin-bottom: 0.8em\; line-height: 1.3em\; font-family: Verdana\, Arial\, sans-serif\; font-size: 14px\; background-color: rgb(255\, 255\, 255)\;">There will be local businesses displaying their wears. Hors d’oeuvres and cash bar- including the featured Zumbatini!</p><p style="margin-top: 0.2em\; margin-bottom: 0.8em\; line-height: 1.3em\; font-family: Verdana\, Arial\, sans-serif\; font-size: 14px\; background-color: rgb(255\, 255\, 255)\;"><strong>Participants:</strong><br>$25 prior to September 15\, 2014<br>$35 at the event</p><p style="margin-top: 0.2em\; margin-bottom: 0.8em\; line-height: 1.3em\; font-family: Verdana\, Arial\, sans-serif\; font-size: 14px\; background-color: rgb(255\, 255\, 255)\;"><strong>Sponsors/Businesses:</strong><br>$50 prior to September 15\, 2014<br>$75 at the event</p><p style="margin-top: 0.2em\; margin-bottom: 0.8em\; line-height: 1.3em\; font-family: Verdana\, Arial\, sans-serif\; font-size: 14px\; background-color: rgb(255\, 255\, 255)\;">To order tickets\,&nbsp\;<a href="https://ops1.operations.daxko.com/Online/2093/Programs/Search.mvc/programs?category_ids=27540" target="_blank" class="external external_icon" style="padding-right: 13px\; color: rgb(0\, 96\, 175)\; background: url(http://saratogaregionalymca.org/content/plugins/sem-external-links/external.png) 100% 50% no-repeat\;">please click here</a>&nbsp\;or contact kendra.vickers@srymca.org for more information.</p>
LOCATION:Saratoga Regional YMCA
UID:e.2254.3525
SEQUENCE:3
DTSTAMP:20260424T111228Z
URL:https://chamber.saratoga.org/events/details/shaken-not-stirred-with-a-fashion-twist-09-20-2014-09-20-2014-3525
END:VEVENT

END:VCALENDAR
