BEGIN:VCALENDAR
VERSION:2.0
PRODID:-//ChamberMaster//Event Calendar 2.0//EN
METHOD:PUBLISH
X-PUBLISHED-TTL:P3D
REFRESH-INTERVAL:P3D
CALSCALE:GREGORIAN
BEGIN:VEVENT
DTSTART:20161120T140000Z
DTEND:20161120T210000Z
X-MICROSOFT-CDO-ALLDAYEVENT:FALSE
SUMMARY:Sew a Blanket Shirt with Brian Manning. #981-1120.
DESCRIPTION:Through the ages the blanket has been a source of warmth and comfort. In this relaxed class students will design and learn how to utilize that blanket to create a garment that can be worn when the cold winds blow. Topics will include learning hand stitching\, the design of your shirt\, the use of wool in regulating the body's core temperature\, the simple match coat and how to wear one and the history of blanket shirts\, coats and cloaks. Some knowledge of sewing is helpful but not required. Needles\, thread and scissors will be provided.\n\n\n\n \n\n\nNOTE:  You may bring your own blankets. They should measure at least 65" x 80". Or a blanket can be provided at a cost of $28.\n\n\n\n \n\n\nNOTE:  Students will need to bring a set of commercially made wool felt pack boot liners\, one pair of wool socks and one set of thick felt insoles.
X-ALT-DESC;FMTTYPE=text/html:<pre>\n<span style="color:black"><span style="font-family:arial\,sans-serif"><span style="font-size:12.0pt">Through the ages the blanket has been a source of warmth and comfort. In this relaxed class students will design and learn how to utilize that blanket to create a garment that can be worn when the cold winds blow. Topics will include learning hand stitching\, the design of your shirt\, the use of wool in regulating the body&#39\;s core temperature\, the simple match coat and how to wear one and the history of blanket shirts\, coats and cloaks. Some knowledge of sewing is helpful but not required. Needles\, thread and scissors will be provided.</span></span></span></pre>\n\n<pre>\n\n&nbsp\;</pre>\n\n<pre>\n<strong><span style="color:black"><span style="font-family:\n"><span style="font-size:12.0pt">NOTE:&nbsp\; You may bring your own blankets. They should measure at least 65&quot\; x 80&quot\;. Or a blanket can be provided at a cost of $28.</span></span></span></strong></pre>\n\n<pre>\n\n&nbsp\;</pre>\n\n<pre>\n<strong><span style="color:black"><span style="font-family:\n"><span style="font-size:12.0pt">NOTE:&nbsp\; Students will need to bring a set of commercially made wool felt pack boot liners\, one pair of wool socks and one set of thick felt insoles.</span></span></span></strong></pre>\n
LOCATION:Adirondack Folk School 51 Main Street Lake Luzerne\, NY 12846
UID:e.2254.19480
SEQUENCE:3
DTSTAMP:20260420T201825Z
URL:https://chamber.saratoga.org/events/details/sew-a-blanket-shirt-with-brian-manning-981-1120-19480
END:VEVENT

END:VCALENDAR
