BEGIN:VCALENDAR
VERSION:2.0
PRODID:-//ChamberMaster//Event Calendar 2.0//EN
METHOD:PUBLISH
X-PUBLISHED-TTL:P3D
REFRESH-INTERVAL:P3D
CALSCALE:GREGORIAN
BEGIN:VEVENT
DTSTART:20160312T140000Z
DTEND:20160312T210000Z
X-MICROSOFT-CDO-ALLDAYEVENT:FALSE
SUMMARY:Sew a Blanket Shirt with Brian Manning. #981-0312.
DESCRIPTION:Through the ages the blanket has been a source of warmth and comfort. In this relaxed class students will design and learn how to utilize that blanket to create a garment that can be worn when the cold winds blow. Topics will include learning hand stitching\, the design of your shirt\, the use of wool in regulating the body's core temperature\, the simple match coat and how to wear one and the history of blanket shirts\, coats and cloaks. Some knowledge of sewing is helpful but not required. Needles\, thread and scissors will be provided. NOTE: You may bring your own blankets. They should measure at least 65" x 80". Or a blanket can be provided at a cost of $28.
X-ALT-DESC;FMTTYPE=text/html:Through the ages the blanket has been a source of warmth and comfort. In this relaxed class students will design and learn how to utilize that blanket to create a garment that can be worn when the cold winds blow. Topics will include learning hand stitching\, the design of your shirt\, the use of wool in regulating the body&#39\;s core temperature\, the simple match coat and how to wear one and the history of blanket shirts\, coats and cloaks. Some knowledge of sewing is helpful but not required. Needles\, thread and scissors will be provided. NOTE: You may bring your own blankets. They should measure at least 65&quot\; x 80&quot\;. Or a blanket can be provided at a cost of $28.
LOCATION:Adirondack Folk School\, 51 Main Street\, Lake Luzerne\, NY 12846
UID:e.2254.15010
SEQUENCE:3
DTSTAMP:20260422T005150Z
URL:https://chamber.saratoga.org/events/details/sew-a-blanket-shirt-with-brian-manning-981-0312-03-12-2016-15010
END:VEVENT

END:VCALENDAR
