BEGIN:VCALENDAR
VERSION:2.0
PRODID:-//ChamberMaster//Event Calendar 2.0//EN
METHOD:PUBLISH
X-PUBLISHED-TTL:P3D
REFRESH-INTERVAL:P3D
CALSCALE:GREGORIAN
BEGIN:VEVENT
DTSTART:20170114T140000Z
DTEND:20170114T210000Z
X-MICROSOFT-CDO-ALLDAYEVENT:FALSE
SUMMARY:Sew a Blanket Shirt with Brian Manning. #1029-0114. 1 Day.
DESCRIPTION:Through the ages the blanket has been a source of warmth and comfort. In this relaxed class students will design and learn how to utilize that blanket to create a garment that can be worn when the cold winds blow. Topics will include learning hand stitching\, the design of your shirt\, the use of wool in regulating the body's core temperature\, the simple match coat and how to wear one and the history of blanket shirts\, coats and cloaks. Some knowledge of sewing is helpful but not required. Needles\, thread and scissors will be provided.\n\n\nNOTE:  You may bring your own blankets. They should measure at least 65" x 80". One blanket will work well for small to large sizes. Two or more blankets may be needed for XL or greater. Blankets can also be provided at a cost of $28 each. Please call AFS at 518-696-2400 if you want to purchase a blanket from the instructor.
X-ALT-DESC;FMTTYPE=text/html:<pre>\n<span style="font-size:12pt"><span style="font-family:arial\,sans-serif"><span style="color:black">Through the ages the blanket has been a source of warmth and comfort. In this relaxed class students will design and learn how to utilize that blanket to create a garment that can be worn when the cold winds blow. Topics will include learning hand stitching\, the design of your shirt\, the use of wool in regulating the body&#39\;s core temperature\, the simple match coat and how to wear one and the history of blanket shirts\, coats and cloaks. Some knowledge of sewing is helpful but not required. Needles\, thread and scissors will be provided.</span></span></span></pre>\n\n<pre>\n<strong><span style="font-size:12pt"><span style="font-family:arial\,sans-serif"><span style="color:black">NOTE:&nbsp\; You may bring your own blankets. They should measure at least 65&quot\; x 80&quot\;. One blanket will work well for small to large sizes. Two or more blankets may be needed for XL or greater. Blankets can also be provided at a cost of $28 each. Please call AFS at 518-696-2400 if you want to purchase a blanket from the instructor.</span></span></span></strong></pre>\n
LOCATION:Adirondack Folk School 51 Main Street Lake Luzerne\, NY 12846
UID:e.2254.21747
SEQUENCE:3
DTSTAMP:20260420T152354Z
URL:https://chamber.saratoga.org/events/details/sew-a-blanket-shirt-with-brian-manning-1029-0114-1-day-21747
END:VEVENT

END:VCALENDAR
