BEGIN:VCALENDAR
VERSION:2.0
PRODID:-//ChamberMaster//Event Calendar 2.0//EN
METHOD:PUBLISH
X-PUBLISHED-TTL:P3D
REFRESH-INTERVAL:P3D
CALSCALE:GREGORIAN
BEGIN:VEVENT
DTSTART:20140704T130000Z
DTEND:20140704T170000Z
X-MICROSOFT-CDO-ALLDAYEVENT:FALSE
SUMMARY:Seventh Annual Family Fun Day - 07/04/2014
DESCRIPTION:Visit with historical reenactors\, participate in historic games and free balloons and more- Part of Saratoga Springs All-American CelebrationSaratoga Springs History Museum To Hold Seventh Annual Family Fun Day\nPart of Saratoga Springs All-American Celebration \n The Saratoga Springs History Museum is holding their annual\, free Family Fun Day in Congress Park on Friday\, July 4th from 11:00 to 3:00 p.m.  \n This free event will offer families the chance to visit with historical reenactors\, participate in historic games and free balloons and more.\n The History Museum\, located in the historic Canfield Casino\, will also be open to visit and take a trip back into early Saratoga Springs.\n This special event is sponsored by Alfred Z. Solomon Charitable Trust and is part of the Saratoga Springs All-American Celebration Weekend official schedule. \n For more information on this popular annual event\, contact the History Museum at 584-6920 or visit www.saratogahistory.org.
X-ALT-DESC;FMTTYPE=text/html:<p>Visit with historical reenactors\, participate in historic games and free balloons and more- Part of Saratoga Springs All-American Celebration</p><p align="center"><strong>Saratoga Springs History Museum To Hold Seventh Annual Family Fun Day</strong></p>\n<p align="center"><strong><em>Part of Saratoga Springs All-American Celebration </em></strong></p>\n<p><strong>&nbsp\;</strong>The Saratoga Springs History Museum is holding their annual\, free Family Fun Day in Congress Park on Friday\, July 4<sup>th</sup> from 11:00 to 3:00 p.m.&nbsp\;&nbsp\;</p>\n<p>&nbsp\;This free event will offer families the chance to visit with historical reenactors\, participate in historic games and free balloons and more.</p>\n<p>&nbsp\;The History Museum\, located in the historic Canfield Casino\, will also be open to visit and take a trip back into early Saratoga Springs.</p>\n<p>&nbsp\;This special event is sponsored by Alfred Z. Solomon Charitable Trust and is part of the Saratoga Springs All-American Celebration Weekend official schedule.&nbsp\;</p>\n<p>&nbsp\;For more information on this popular annual event\, contact the History Museum at 584-6920 or visit <a href="http://www.saratogahistory.org/">www.saratogahistory.org</a>.</p>
LOCATION:The Saratoga Springs History Museum
UID:e.2254.3354
SEQUENCE:3
DTSTAMP:20260424T180103Z
URL:https://chamber.saratoga.org/events/details/seventh-annual-family-fun-day-07-04-2014-07-04-2014-3354
END:VEVENT

END:VCALENDAR
