BEGIN:VCALENDAR
VERSION:2.0
PRODID:-//ChamberMaster//Event Calendar 2.0//EN
METHOD:PUBLISH
X-PUBLISHED-TTL:P3D
REFRESH-INTERVAL:P3D
CALSCALE:GREGORIAN
BEGIN:VEVENT
DTSTART:20151107T180000Z
DTEND:20151107T200000Z
X-MICROSOFT-CDO-ALLDAYEVENT:FALSE
SUMMARY:Seussical The Musical
DESCRIPTION:28 SCT TEEN TROUPE members will be performing Seussical the Musical at the Saratoga Music Hall Saturday
X-ALT-DESC;FMTTYPE=text/html:28 SCT TEEN TROUPE members will be performing Seussical the Musical at the Saratoga Music Hall Saturday
LOCATION:Saratoga Music Hall\, 3rd floor City Hall\, Broadway Saratoga Springs
UID:e.2254.12368
SEQUENCE:3
DTSTAMP:20260422T103708Z
URL:https://chamber.saratoga.org/events/details/seussical-the-musical-11-07-2015-12368
END:VEVENT

END:VCALENDAR
