BEGIN:VCALENDAR
VERSION:2.0
PRODID:-//ChamberMaster//Event Calendar 2.0//EN
METHOD:PUBLISH
X-PUBLISHED-TTL:P3D
REFRESH-INTERVAL:P3D
CALSCALE:GREGORIAN
BEGIN:VEVENT
DTSTART:20151206T190000Z
DTEND:20151206T200000Z
X-MICROSOFT-CDO-ALLDAYEVENT:FALSE
SUMMARY:Seth and the Moody Melix FREE Holiday show at the Saratoga Springs Public Librar
DESCRIPTION:A Holiday show for all ages at the Saratoga Springs Public Library! Features traditional holiday music (with a twist)\, along with the original music of Seth and the Moody Melix!
X-ALT-DESC;FMTTYPE=text/html:A Holiday show for all ages at the Saratoga Springs Public Library! Features traditional holiday music (with a twist)\, along with the original music of Seth and the Moody Melix!
LOCATION:Saratoga Springs Public Library
UID:e.2254.12774
SEQUENCE:3
DTSTAMP:20260422T082132Z
URL:https://chamber.saratoga.org/events/details/seth-and-the-moody-melix-free-holiday-show-at-the-saratoga-springs-public-librar-12-06-2015-12774
END:VEVENT

END:VCALENDAR
