BEGIN:VCALENDAR
VERSION:2.0
PRODID:-//ChamberMaster//Event Calendar 2.0//EN
METHOD:PUBLISH
X-PUBLISHED-TTL:P3D
REFRESH-INTERVAL:P3D
CALSCALE:GREGORIAN
BEGIN:VEVENT
DTSTART:20150823T180000Z
DTEND:20150823T190000Z
X-MICROSOFT-CDO-ALLDAYEVENT:FALSE
SUMMARY:Seth and the Moody Melix - Free Children's concert at Caffe Lena
DESCRIPTION:Seth and the Moody Melix will be taking stage for a FREE show at the world famous Caffe Lena on Sunday August 23rd at 2pm! We are so excited and honored to bring our music to such a historical venue.
X-ALT-DESC;FMTTYPE=text/html:Seth and the Moody Melix will be taking stage for a FREE show at the world famous Caffe Lena on Sunday August 23rd at 2pm! We are so excited and honored to bring our music to such a historical venue.
LOCATION:Caffe Lena
UID:e.2254.8393
SEQUENCE:3
DTSTAMP:20260423T024205Z
URL:https://chamber.saratoga.org/events/details/seth-and-the-moody-melix-free-children-s-concert-at-caffe-lena-08-23-2015-8393
END:VEVENT

END:VCALENDAR
