BEGIN:VCALENDAR
VERSION:2.0
PRODID:-//ChamberMaster//Event Calendar 2.0//EN
METHOD:PUBLISH
X-PUBLISHED-TTL:P3D
REFRESH-INTERVAL:P3D
CALSCALE:GREGORIAN
BEGIN:VEVENT
DTSTART:20140904T200000Z
DTEND:20140904T220000Z
X-MICROSOFT-CDO-ALLDAYEVENT:FALSE
SUMMARY:September LGBTQA Professionals Networking Event - 09/04/2014
DESCRIPTION:The Pride Center Business Alliance comes to Saratoga!  Join us for the September LGBTQ and Straight-Allied Professionals Networking Event .  This month's event will be held at Mingle on the Avenue in gorgeous Saratoga Springs.If you've only ever been to Mingle in Albany\, then this is the perfect opportunity to check out their scenic Saratoga location! So come and meet up with friends\, distribute your business cards and make important business contacts. \n\nWhen: Thursday\, September 4th\, 2014 | 6-8pm\n\nWhere: Mingle on the Avenue\n30 Lake Ave\, Saratoga Springs 12866\n\nSupport the Pride Center Business Alliance Members\, or become a member:\n\nhttp://www.capitalpridecenter.org/resources/business-alliance/
X-ALT-DESC;FMTTYPE=text/html:<p>The Pride Center Business Alliance comes to Saratoga!  Join us for the September LGBTQ and Straight-Allied Professionals Networking Event .  This month's event will be held at Mingle on the Avenue in gorgeous Saratoga Springs.</p><span style="color: rgb(20\, 24\, 35)\; font-family: Helvetica\, Arial\, 'lucida grande'\, tahoma\, verdana\, arial\, sans-serif\; font-size: 14px\; line-height: 17.920000076293945px\; background-color: rgb(255\, 255\, 255)\;">If you've only ever been to Mingle in Albany\, then this is the perfect opportunity to check out their scenic Saratoga location! So come and meet up with friends\, distribute your business cards and make important business contacts.&nbsp\;</span><br style="color: rgb(20\, 24\, 35)\; font-family: Helvetica\, Arial\, 'lucida grande'\, tahoma\, verdana\, arial\, sans-serif\; font-size: 14px\; line-height: 17.920000076293945px\; background-color: rgb(255\, 255\, 255)\;"><br style="color: rgb(20\, 24\, 35)\; font-family: Helvetica\, Arial\, 'lucida grande'\, tahoma\, verdana\, arial\, sans-serif\; font-size: 14px\; line-height: 17.920000076293945px\; background-color: rgb(255\, 255\, 255)\;"><span style="color: rgb(20\, 24\, 35)\; font-family: Helvetica\, Arial\, 'lucida grande'\, tahoma\, verdana\, arial\, sans-serif\; font-size: 14px\; line-height: 17.920000076293945px\; background-color: rgb(255\, 255\, 255)\;">When: Thursday\, September 4th\, 2014 | 6-8pm</span><br style="color: rgb(20\, 24\, 35)\; font-family: Helvetica\, Arial\, 'lucida grande'\, tahoma\, verdana\, arial\, sans-serif\; font-size: 14px\; line-height: 17.920000076293945px\; background-color: rgb(255\, 255\, 255)\;"><br style="color: rgb(20\, 24\, 35)\; font-family: Helvetica\, Arial\, 'lucida grande'\, tahoma\, verdana\, arial\, sans-serif\; font-size: 14px\; line-height: 17.920000076293945px\; background-color: rgb(255\, 255\, 255)\;"><span style="color: rgb(20\, 24\, 35)\; font-family: Helvetica\, Arial\, 'lucida grande'\, tahoma\, verdana\, arial\, sans-serif\; font-size: 14px\; line-height: 17.920000076293945px\; background-color: rgb(255\, 255\, 255)\;">Where: Mingle on the Avenue</span><br style="color: rgb(20\, 24\, 35)\; font-family: Helvetica\, Arial\, 'lucida grande'\, tahoma\, verdana\, arial\, sans-serif\; font-size: 14px\; line-height: 17.920000076293945px\; background-color: rgb(255\, 255\, 255)\;"><span style="color: rgb(20\, 24\, 35)\; font-family: Helvetica\, Arial\, 'lucida grande'\, tahoma\, verdana\, arial\, sans-serif\; font-size: 14px\; line-height: 17.920000076293945px\; background-color: rgb(255\, 255\, 255)\;">30 Lake Ave\, Saratoga Springs 12866</span><br style="color: rgb(20\, 24\, 35)\; font-family: Helvetica\, Arial\, 'lucida grande'\, tahoma\, verdana\, arial\, sans-serif\; font-size: 14px\; line-height: 17.920000076293945px\; background-color: rgb(255\, 255\, 255)\;"><br style="color: rgb(20\, 24\, 35)\; font-family: Helvetica\, Arial\, 'lucida grande'\, tahoma\, verdana\, arial\, sans-serif\; font-size: 14px\; line-height: 17.920000076293945px\; background-color: rgb(255\, 255\, 255)\;"><span style="color: rgb(20\, 24\, 35)\; font-family: Helvetica\, Arial\, 'lucida grande'\, tahoma\, verdana\, arial\, sans-serif\; font-size: 14px\; line-height: 17.920000076293945px\; background-color: rgb(255\, 255\, 255)\;">Support the Pride Center Business Alliance Members\, or become a member:</span><br style="color: rgb(20\, 24\, 35)\; font-family: Helvetica\, Arial\, 'lucida grande'\, tahoma\, verdana\, arial\, sans-serif\; font-size: 14px\; line-height: 17.920000076293945px\; background-color: rgb(255\, 255\, 255)\;"><br style="color: rgb(20\, 24\, 35)\; font-family: Helvetica\, Arial\, 'lucida grande'\, tahoma\, verdana\, arial\, sans-serif\; font-size: 14px\; line-height: 17.920000076293945px\; background-color: rgb(255\, 255\, 255)\;"><a href="http://www.capitalpridecenter.org/resources/business-alliance/" rel="nofollow nofollow" target="_blank" style="color: rgb(59\, 89\, 152)\; cursor: pointer\; text-decoration: none\; font-family: Helvetica\, Arial\, 'lucida grande'\, tahoma\, verdana\, arial\, sans-serif\; font-size: 14px\; line-height: 17.920000076293945px\; background-color: rgb(255\, 255\, 255)\;">http://<wbr><span class="word_break" style="display: inline-block\;"></span>www.capitalpridecenter.org/<wbr><span class="word_break" style="display: inline-block\;"></span>resources/<wbr><span class="word_break" style="display: inline-block\;"></span>business-alliance/</a><br>
LOCATION:Mingle on the Avenue
UID:e.2254.3560
SEQUENCE:3
DTSTAMP:20260424T110844Z
URL:https://chamber.saratoga.org/events/details/september-lgbtqa-professionals-networking-event-09-04-2014-09-04-2014-3560
END:VEVENT

END:VCALENDAR
