BEGIN:VCALENDAR
VERSION:2.0
PRODID:-//ChamberMaster//Event Calendar 2.0//EN
METHOD:PUBLISH
X-PUBLISHED-TTL:P3D
REFRESH-INTERVAL:P3D
CALSCALE:GREGORIAN
BEGIN:VEVENT
DTSTART:20140814T140000Z
DTEND:20140814T150000Z
X-MICROSOFT-CDO-ALLDAYEVENT:FALSE
SUMMARY:Seeing Things at Lunchtime - 08/14/2014
DESCRIPTION:Lunchtime tour   font-family: Calibri\, sans-serif\;">Love and Tragedy - Myths\, Fables and Legends in the Art of The\nHyde  CollectionSee and hear the scandalous story of Paolo and Francesca\, the tragic Pyramus and Thisbe\, and the lessons learned by Apollo and Daphne – these are just a few of the tales told in the European art in the collection.  The half hour tour is followed by a discussion and lunch (participants  bring their own) in the art studio.
X-ALT-DESC;FMTTYPE=text/html:<p>Lunchtime tour & discussion</p><span style="font-size: 11pt\; font-family: Calibri\, sans-serif\;"><p class="MsoNormal"><em><span style="font-size:11.0pt">Love and Tragedy - Myths\, Fables and Legends in the&nbsp\;</span></em><em style="text-indent: 0.5in\;"><span style="font-size:11.0pt">Art of The\nHyde  Collection</span></em></p>See and hear the scandalous story of Paolo and Francesca\, the tragic Pyramus and Thisbe\, and the lessons learned by Apollo and Daphne – these are just a few of the tales told in the European art in the collection.&nbsp\; The half hour tour is followed by a discussion and lunch (participants &nbsp\;bring their own) in the art studio.&nbsp\;&nbsp\;</span><br>
LOCATION:The Hyde Collection Art Museum
UID:e.2254.3515
SEQUENCE:3
DTSTAMP:20260424T204612Z
URL:https://chamber.saratoga.org/events/details/seeing-things-at-lunchtime-08-14-2014-08-14-2014-3515
END:VEVENT

END:VCALENDAR
