BEGIN:VCALENDAR
VERSION:2.0
PRODID:-//ChamberMaster//Event Calendar 2.0//EN
METHOD:PUBLISH
X-PUBLISHED-TTL:P3D
REFRESH-INTERVAL:P3D
CALSCALE:GREGORIAN
BEGIN:VEVENT
DTSTART:20150719T170000Z
DTEND:20150719T180000Z
X-MICROSOFT-CDO-ALLDAYEVENT:FALSE
SUMMARY:Secret Lives of the Underground Railroad in NYC
DESCRIPTION:Secret Lives of the Underground Railroad in NYC tells the story of the involvement and interracial collaboration of Sidney Howard and Louis Napoleon in the Underground Railroad and its network in New York City. Don Papson\, the founder of the North Star Underground Railroad Museum in Ausable Chasm\, N.Y and Tom Colarco\, the author of seven books about the underground railroad\, provide detailed information about Howard and Napoleon and their activities 1855-1856.Don Papson will share information and stories included in their book.
X-ALT-DESC;FMTTYPE=text/html:Secret Lives of the Underground Railroad in NYC tells the story of the involvement and interracial collaboration of Sidney Howard and Louis Napoleon in the Underground Railroad and its network in New York City. Don Papson\, the founder of the North Star Underground Railroad Museum in Ausable Chasm\, N.Y and Tom Colarco\, the author of seven books about the underground railroad\, provide detailed information about Howard and Napoleon and their activities 1855-1856.Don Papson will share information and stories included in their book.
LOCATION:Grant Cottage State Historic Site
UID:e.2254.6061
SEQUENCE:3
DTSTAMP:20260423T042912Z
URL:https://chamber.saratoga.org/events/details/secret-lives-of-the-underground-railroad-in-nyc-07-19-2015-6061
END:VEVENT

END:VCALENDAR
