BEGIN:VCALENDAR
VERSION:2.0
PRODID:-//ChamberMaster//Event Calendar 2.0//EN
METHOD:PUBLISH
X-PUBLISHED-TTL:P3D
REFRESH-INTERVAL:P3D
CALSCALE:GREGORIAN
BEGIN:VEVENT
DTSTART:20150905T133000Z
DTEND:20150905T160000Z
X-MICROSOFT-CDO-ALLDAYEVENT:FALSE
SUMMARY:Second Annual CM5K Walk/Run in Benefit of Sacandaga Helping Hands
DESCRIPTION:CMK & Associates Real Estate will be hosting its 2nd Annual CM5K Walk/Run in benefit of the Sacandaga Helping Hands. Sacandaga Helping Hands is a local organization that helps families in need and the community. Their goal is to lend a helping hand to provide short-term assistance with unforeseen expenses that may arise due to a recent tragedy such as a life-threatening illness or injury and sudden tragic events. All proceeds from the race will go directly to this organization. The race will start at the Waterfront Park in Northville and will begin at 9:30 AM\, with registration at 8:30 AM. Pre-registration costs $20 and day-of registration costs $25. Those who register before August 17th will receive a free Tek shirt! To learn more or register for the race please go to www.cm5krace.com
X-ALT-DESC;FMTTYPE=text/html:CMK &amp\; Associates Real Estate will be hosting its 2nd Annual CM5K Walk/Run in benefit of the Sacandaga Helping Hands. Sacandaga Helping Hands is a local organization that helps families in need and the community. Their goal is to lend a helping hand to provide short-term assistance with unforeseen expenses that may arise due to a recent tragedy such as a life-threatening illness or injury and sudden tragic events. All proceeds from the race will go directly to this organization. The race will start at the Waterfront Park in Northville and will begin at 9:30 AM\, with registration at 8:30 AM. Pre-registration costs $20 and day-of registration costs $25. Those who register before August 17th will receive a free Tek shirt! To learn more or register for the race please go to www.cm5krace.com
LOCATION:Waterfront Park Northville\, NY 12134
UID:e.2254.10055
SEQUENCE:3
DTSTAMP:20260423T005901Z
URL:https://chamber.saratoga.org/events/details/second-annual-cm5k-walk-run-in-benefit-of-sacandaga-helping-hands-09-05-2015-10055
END:VEVENT

END:VCALENDAR
