BEGIN:VCALENDAR
VERSION:2.0
PRODID:-//ChamberMaster//Event Calendar 2.0//EN
METHOD:PUBLISH
X-PUBLISHED-TTL:P3D
REFRESH-INTERVAL:P3D
CALSCALE:GREGORIAN
BEGIN:VEVENT
DTSTART:20160901T223000Z
DTEND:20160902T010000Z
X-MICROSOFT-CDO-ALLDAYEVENT:FALSE
SUMMARY:Scotch\, Bourbon & Cigar Nights
DESCRIPTION:Join us for three exclusive evenings on the Campagna Patio\, and savor your choice of scotch or bourbon\, along with a good cigar. You will enjoy three 1 ounce pours of either single malt scotch or choice bourbons for tasting. Why not try a variety and then select your favorite ! We also will feature an assortment of handcrafted antipasti and flatbreads\, expertly selected to pair perfectly with your favorite whiskeys. Bring your own cigars or purchase hand-rolled cigars from Habana Premium Cigar Shop available right on our patio! Don't miss these special nights\; seating is limited\, so call today to reserve your patio table for the following dates: September 1 September 8 September 15 Whiskey starts pouring at 6:30 p.m. Call 518-289-5693 for reservations.
X-ALT-DESC;FMTTYPE=text/html:Join us for three exclusive evenings on the Campagna Patio\, and savor your choice of scotch or bourbon\, along with a good cigar. You will enjoy three 1 ounce pours of either single malt scotch or choice bourbons for tasting. Why not try a variety and then select your favorite ! We also will feature an assortment of handcrafted antipasti and flatbreads\, expertly selected to pair perfectly with your favorite whiskeys. Bring your own cigars or purchase hand-rolled cigars from Habana Premium Cigar Shop&ndash\;available right on our patio! Don&rsquo\;t miss these special nights\; seating is limited\, so call today to reserve your patio table for the following dates: September 1 September 8 September 15 Whiskey starts pouring at 6:30 p.m. Call 518-289-5693 for reservations.
LOCATION:Campagna Restaurant 2452 State Route 9 Malta\, NY 12020
UID:e.2254.17587
SEQUENCE:3
DTSTAMP:20260420T231847Z
URL:https://chamber.saratoga.org/events/details/scotch-bourbon-cigar-nights-09-01-2016-17587
END:VEVENT

END:VCALENDAR
