BEGIN:VCALENDAR
VERSION:2.0
PRODID:-//ChamberMaster//Event Calendar 2.0//EN
METHOD:PUBLISH
X-PUBLISHED-TTL:P3D
REFRESH-INTERVAL:P3D
CALSCALE:GREGORIAN
BEGIN:VEVENT
DTSTART:20161110T160000Z
DTEND:20161110T180000Z
X-MICROSOFT-CDO-ALLDAYEVENT:FALSE
SUMMARY:Science Festival: Author’s Corner
DESCRIPTION:Enjoy STEM books read by your favorite local authors. Alison Formento\, Elizabeth Zunon\, Barbara Ann Mojica\, and more will swing by miSci to do live readings and book signings of their newest books. Bring your littlest ones during the day or stop by after school as the Science Festival kicks off. Check the Science Festival website for updates on Author's Corner programming.
X-ALT-DESC;FMTTYPE=text/html:Enjoy STEM books read by your favorite local authors. Alison Formento\, Elizabeth Zunon\, Barbara Ann Mojica\, and more will swing by miSci to do live readings and book signings of their newest books. Bring your littlest ones during the day or stop by after school as the Science Festival kicks off. Check the Science Festival website for updates on Author&#39\;s Corner programming.
LOCATION:miSci 15 Nott Terrace Heights Schenectady\,NY 12308
UID:e.2254.20816
SEQUENCE:3
DTSTAMP:20260420T231036Z
URL:https://chamber.saratoga.org/events/details/science-festival-author-s-corner-20816
END:VEVENT

END:VCALENDAR
