BEGIN:VCALENDAR
VERSION:2.0
PRODID:-//ChamberMaster//Event Calendar 2.0//EN
METHOD:PUBLISH
X-PUBLISHED-TTL:P3D
REFRESH-INTERVAL:P3D
CALSCALE:GREGORIAN
BEGIN:VEVENT
DTSTART:20151104T230000Z
DTEND:20151105T000000Z
X-MICROSOFT-CDO-ALLDAYEVENT:FALSE
SUMMARY:Schuylerville Public Library to Host Social Security Workshop
DESCRIPTION:FOR IMMEDIATE RELEASE\n\nSchuylerville Public Library to Host Social Security Workshop\n\n\n\nLATHAM\, N.Y.\, October 23\, 2015 -  The Schuylerville Public Library located at 52 Ferry Street\, Schuylerville\, NY\, will be hosting a complimentary workshop called\, "Making the Most of Social Security" on Wednesday\,  November 4th at 6:00 PM. The event is designed to help pre-retirees ages 50-70\, learn how to maximize their Social Security benefits prior to receiving them. Attendees will also learn valuable claiming strategies for individuals\, divorcees\, and married couples\; including how part/full-time employment impacts benefits.\n\n\n\nThe event is being presented by Retirement Solutions\, an office of MetLife. Seating is limited. Please RSVP to John Kalil at 518-220-3076. Light refreshments will be served.
X-ALT-DESC;FMTTYPE=text/html:<strong><span style="font-size: 20pt\;"><span style="font-family: calibri\,sans-serif\;">FOR IMMEDIATE RELEASE</span></span></strong><br />\n<span style="font-family: calibri\;"><span style="font-size: 14pt\;"><span style="color: black\;">Schuylerville Public Library</span></span></span><span style="font-size: 14pt\;"> to Host Social Security Workshop</span><br />\n<br />\n<span style="font-size: 12pt\;"><span style="font-family: calibri\;"><strong>LATHAM\, N.Y.\, October 23\, 2015</strong> -&nbsp\; The Schuylerville Public Library located at 52 Ferry Street\, Schuylerville\, NY\, will be hosting a complimentary workshop called\, <strong><em>&ldquo\;Making the Most of Social Security&rdquo\; </em></strong>on Wednesday\,&nbsp\; November 4th at 6:00 PM. The event is designed to help pre-retirees ages 50-70\, learn how to maximize their Social Security benefits prior to receiving them. Attendees will also learn valuable claiming strategies for individuals\, divorcees\, and married couples\; including how part/full-time employment impacts benefits.</span></span><br />\n<br />\n<span style="font-family: calibri\,sans-serif\;"><span style="font-size: medium\;">The event is being presented by Retirement Solutions\, an office of MetLife. Seating is limited. Please RSVP to John Kalil at 518-220-3076. Light refreshments will be served.</span></span><br />\n&nbsp\;
LOCATION:Schuylerville Public Library
UID:e.2254.12771
SEQUENCE:3
DTSTAMP:20260422T103309Z
URL:https://chamber.saratoga.org/events/details/schuylerville-public-library-to-host-social-security-workshop-11-04-2015-12771
END:VEVENT

END:VCALENDAR
