BEGIN:VCALENDAR
VERSION:2.0
PRODID:-//ChamberMaster//Event Calendar 2.0//EN
METHOD:PUBLISH
X-PUBLISHED-TTL:P3D
REFRESH-INTERVAL:P3D
CALSCALE:GREGORIAN
BEGIN:VEVENT
DTSTART:20140823T160000Z
DTEND:20140823T180000Z
X-MICROSOFT-CDO-ALLDAYEVENT:FALSE
SUMMARY:School of Orchestral Studies Final Concert - 08/23/2014
DESCRIPTION:Free concert at the Saratoga Performing Arts CenterThe students of the New York State Summer School of the Arts\, School of Orchestral Studies present their final concert. This free event will feature music for full orchestra\, string orchestra\, and wind ensemble. Approximately 95 talented high school students from across New York State have participated in this month-long program and are proud to present their work under the direction of Artistic Director Luis Biava.
X-ALT-DESC;FMTTYPE=text/html:<p>Free concert at the Saratoga Performing Arts Center</p><p>The students of the New York State Summer School of the Arts\, School of Orchestral Studies present their final concert. This free event will feature music for full orchestra\, string orchestra\, and wind ensemble. Approximately 95 talented high school students from across New York State have participated in this month-long program and are proud to present their work under the direction of Artistic Director Luis Biava.</p>
LOCATION:Saratoga Performing Arts Center
UID:e.2254.3552
SEQUENCE:3
DTSTAMP:20260424T154805Z
URL:https://chamber.saratoga.org/events/details/school-of-orchestral-studies-final-concert-08-23-2014-08-23-2014-3552
END:VEVENT

END:VCALENDAR
