BEGIN:VCALENDAR
VERSION:2.0
PRODID:-//ChamberMaster//Event Calendar 2.0//EN
METHOD:PUBLISH
X-PUBLISHED-TTL:P3D
REFRESH-INTERVAL:P3D
CALSCALE:GREGORIAN
BEGIN:VEVENT
DTSTART:20140911T120000Z
DTEND:20141019T180000Z
X-MICROSOFT-CDO-ALLDAYEVENT:FALSE
SUMMARY:Schick Art Gallery: Selected Faculty Exhibition - 09/11/2014
DESCRIPTION:Selected Faculty ExhibitionSeptember 11 through October 19\, 2014 Exhibition of new works by selected members of the Skidmore College Art Department. Exhibitors include Kate Leavitt\, Janet Sorensen\, Sarah Sweeney\, and Joanne Vella. Open Monday-Thursday 10 a.m.-6 p.m.\, Friday 10 a.m.-4 p.m.\; Saturday and Sunday Noon-4 p.m. Closed on academic holidays. Schick Art Gallery\, Saisselin Art Building \n For more information call 518-580-5049
X-ALT-DESC;FMTTYPE=text/html:<p>Selected Faculty Exhibition</p><p><b>September 11 through October 19\, 2014</b> </p><p>Exhibition of new works by selected members of the Skidmore College Art Department. Exhibitors include Kate Leavitt\, Janet Sorensen\, Sarah Sweeney\, and Joanne Vella.</p> <p><span>Open Monday-Thursday 10 a.m.-6 p.m.\, Friday 10 a.m.-4 p.m.\; Saturday and Sunday Noon-4 p.m. Closed on academic holidays.</span></p> <span style="font-size: 12pt\; font-family: Times New Roman\,serif\;">Schick Art Gallery\, Saisselin Art Building <br> For more information call 518-580-5049</span>
LOCATION:Schick Art Gallery
UID:e.2254.3530
SEQUENCE:3
DTSTAMP:20260424T093655Z
URL:https://chamber.saratoga.org/events/details/schick-art-gallery-selected-faculty-exhibition-09-11-2014-09-11-2014-3530
END:VEVENT

END:VCALENDAR
