BEGIN:VCALENDAR
VERSION:2.0
PRODID:-//ChamberMaster//Event Calendar 2.0//EN
METHOD:PUBLISH
X-PUBLISHED-TTL:P3D
REFRESH-INTERVAL:P3D
CALSCALE:GREGORIAN
BEGIN:VEVENT
DTSTART:20140911T193000Z
DTEND:20140911T210000Z
X-MICROSOFT-CDO-ALLDAYEVENT:FALSE
SUMMARY:Schick Art Gallery opening reception for Selected Faculty Exhibition - 09/11/2014
DESCRIPTION:Schick Art Gallery opening reception for Selected Faculty Exhibition Exhibit runs 9/11/14-10/19/14\n 5:30 p.m.-Schick Art Gallery\, Saisselin Art Building\n Free and open to the public \n For more information call 518-580-5049
X-ALT-DESC;FMTTYPE=text/html:<p>Schick Art Gallery opening reception for Selected Faculty Exhibition </p><span style="font-size: 12pt\; font-family: Times New Roman\,serif\;">Exhibit runs 9/11/14-10/19/14<br> 5:30 p.m.-Schick Art Gallery\, Saisselin Art Building<br> Free and open to the public <br> For more information call 518-580-5049</span>
LOCATION:Schick Art Gallery\, Saisselin Art Building
UID:e.2254.3532
SEQUENCE:3
DTSTAMP:20260424T110927Z
URL:https://chamber.saratoga.org/events/details/schick-art-gallery-opening-reception-for-selected-faculty-exhibition-09-11-2014-09-11-2014-3532
END:VEVENT

END:VCALENDAR
