BEGIN:VCALENDAR
VERSION:2.0
PRODID:-//ChamberMaster//Event Calendar 2.0//EN
METHOD:PUBLISH
X-PUBLISHED-TTL:P3D
REFRESH-INTERVAL:P3D
CALSCALE:GREGORIAN
BEGIN:VEVENT
DTSTART:20160324T140000Z
DTEND:20160430T200000Z
X-MICROSOFT-CDO-ALLDAYEVENT:FALSE
SUMMARY:Schick Art Gallery Exhibition: Scenes and Variations
DESCRIPTION:Exhibition: Scenes and Variations Unconventional interpretations of landscape by five artists\, Christian Carson\, Terry Conrad\, Gina Occhiogrosso\, Ken Ragsdale\, and Jake Winiski. Monday-Thursday\, 10 a.m.-6 p.m.\; Friday\, 10 a.m.-4 p.m.\; Saturday and Sunday\, noon-4 p.m.\; closed on academic holidays. Saisselin Art Building\, Schick Art Gallery For more information call 518-580-5049
X-ALT-DESC;FMTTYPE=text/html:Exhibition: Scenes and Variations Unconventional interpretations of landscape by five artists\, Christian Carson\, Terry Conrad\, Gina Occhiogrosso\, Ken Ragsdale\, and Jake Winiski. Monday-Thursday\, 10 a.m.-6 p.m.\; Friday\, 10 a.m.-4 p.m.\; Saturday and Sunday\, noon-4 p.m.\; closed on academic holidays. Saisselin Art Building\, Schick Art Gallery For more information call 518-580-5049
LOCATION:Schick Art Gallery\, Skidmore College 815 North Broadway Saratoga Springs\, NY 12866
UID:e.2254.14937
SEQUENCE:3
DTSTAMP:20260421T163757Z
URL:https://chamber.saratoga.org/events/details/schick-art-gallery-exhibition-scenes-and-variations-03-24-2016-14937
END:VEVENT

END:VCALENDAR
