BEGIN:VCALENDAR
VERSION:2.0
PRODID:-//ChamberMaster//Event Calendar 2.0//EN
METHOD:PUBLISH
X-PUBLISHED-TTL:P3D
REFRESH-INTERVAL:P3D
CALSCALE:GREGORIAN
BEGIN:VEVENT
DTSTART:20160312T153000Z
DTEND:20160312T170000Z
X-MICROSOFT-CDO-ALLDAYEVENT:FALSE
SUMMARY:Saturday Morning!
DESCRIPTION:Saturday morning between 10:30-12pm\, paint a basket for your Easter eggs\n\nand receive a free leprechaun!\n\nPrepare for two holidays in one day!
X-ALT-DESC;FMTTYPE=text/html:<div style="text-align: center\;"><span style="color:rgb(83\, 128\, 74)\; font-family:georgia\,serif\; font-size:14px">Saturday morning between 10:30-12pm\,&nbsp\;</span><span style="color:#330000"><strong>paint a basket</strong></span><span style="color:rgb(83\, 128\, 74)\; font-family:georgia\,serif\; font-size:14px">&nbsp\;for your Easter eggs<br />\nand receive a&nbsp\;</span><span style="color:#330000"><strong>free leprechaun</strong></span><span style="color:rgb(83\, 128\, 74)\; font-family:georgia\,serif\; font-size:14px">!<br />\nPrepare for two holidays in one day!</span></div>\n
LOCATION:Creative Sparks
UID:e.2254.14984
SEQUENCE:3
DTSTAMP:20260422T003339Z
URL:https://chamber.saratoga.org/events/details/saturday-morning-03-12-2016-14984
END:VEVENT

END:VCALENDAR
