BEGIN:VCALENDAR
VERSION:2.0
PRODID:-//ChamberMaster//Event Calendar 2.0//EN
METHOD:PUBLISH
X-PUBLISHED-TTL:P3D
REFRESH-INTERVAL:P3D
CALSCALE:GREGORIAN
BEGIN:VEVENT
DTSTART:20150512T210000Z
DTEND:20150512T230000Z
X-MICROSOFT-CDO-ALLDAYEVENT:FALSE
SUMMARY:Saratoga Young Professionals Network - Learn more about the Saratoga County Chamber
DESCRIPTION:Saratoga County Chamber President\, Todd Shimkus\, will join Val Muratori\, Executive Director of Saratoga Bridges and 2015 Chair of the Chamber's Board of Directors\, and Matt Jones\, attorney and 2016 incoming chair\, for an armchair discussion. They will provide the young professionals with information on the Saratoga County Chamber of Commerce and how it is working to advance opportunities for the young professionals in our area\, as well as explain the various projects and endeavors that the Chamber takes on. Before and after the discussion\, there will be time to network with attendees and meet the leaders of the Chamber. Thank you to The Adirondack Trust Company for sponsoring the 2015 Saratoga Young Professionals Network.
X-ALT-DESC;FMTTYPE=text/html:Saratoga County Chamber President\, Todd Shimkus\, will join Val Muratori\, Executive Director of Saratoga Bridges and 2015 Chair of the Chamber&#39\;s Board of Directors\, and Matt Jones\, attorney and 2016 incoming chair\, for an armchair discussion. They will provide the young professionals with information on the Saratoga County Chamber of Commerce and how it is working to advance opportunities for the young professionals in our area\, as well as explain the various projects and endeavors that the Chamber takes on. Before and after the discussion\, there will be time to network with attendees and meet the leaders of the Chamber. Thank you to The Adirondack Trust Company for sponsoring the 2015 Saratoga Young Professionals Network.&nbsp\;
LOCATION:Saratoga National Golf Club 458 Union Avenue Saratoga Springs
UID:e.2254.7742
SEQUENCE:3
DTSTAMP:20260423T164350Z
URL:https://chamber.saratoga.org/events/details/saratoga-young-professionals-network-learn-more-about-the-saratoga-county-chamber-05-12-2015-7742
END:VEVENT

END:VCALENDAR
