BEGIN:VCALENDAR
VERSION:2.0
PRODID:-//ChamberMaster//Event Calendar 2.0//EN
METHOD:PUBLISH
X-PUBLISHED-TTL:P3D
REFRESH-INTERVAL:P3D
CALSCALE:GREGORIAN
BEGIN:VEVENT
DTSTART:20151201T220000Z
DTEND:20151202T000000Z
X-MICROSOFT-CDO-ALLDAYEVENT:FALSE
SUMMARY:Saratoga Young Professionals Network
DESCRIPTION:The Saratoga Young Professionals Network will meet for the final time in 2015 at Saratoga Eagle Sales & Service. You are invited to come out and enjoy an evening of networking while enjoying complimentary drinks and hors d'oeuvres provided by Spa City Trifecta. This always proves to be one of the most popular events\, so be sure to make your reservation to join the fun.\n\n\n\nThank you to The Adirondack Trust Company for sponsoring the 2015 Saratoga Young Professionals Network.
X-ALT-DESC;FMTTYPE=text/html:<p>The Saratoga Young Professionals Network will meet for the final time in 2015 at Saratoga Eagle Sales &amp\; Service. You are invited to come out and enjoy an evening of networking while enjoying complimentary drinks and hors d&#39\;oeuvres provided by Spa City Trifecta. This always proves to be one of the most popular events\, so be sure to make your reservation to join the fun.<br />\n<br />\nThank you to The Adirondack Trust Company for sponsoring the 2015 Saratoga Young Professionals Network.</p>\n
LOCATION:Saratoga Eagle Sales & Service 45 Duplainville Road Saratoga Springs
UID:e.2254.13075
SEQUENCE:3
DTSTAMP:20260422T101617Z
URL:https://chamber.saratoga.org/events/details/saratoga-young-professionals-network-12-01-2015-13075
END:VEVENT

END:VCALENDAR
