BEGIN:VCALENDAR
VERSION:2.0
PRODID:-//ChamberMaster//Event Calendar 2.0//EN
METHOD:PUBLISH
X-PUBLISHED-TTL:P3D
REFRESH-INTERVAL:P3D
CALSCALE:GREGORIAN
BEGIN:VEVENT
DTSTART:20141104T220000Z
DTEND:20141105T000000Z
X-MICROSOFT-CDO-ALLDAYEVENT:FALSE
SUMMARY:Saratoga Young Professionals Network
DESCRIPTION:10 Minutes with John Baker\, Owner of Gaffney'sThe Saratoga Young Professionals Network will meet at Gaffney's\, one of the longest tenured locations in Saratoga Springs for their monthly networking event. Attendees will have the opportunity to network with fellow attendees\, enjoy hors d'oeuvres and drink specials while building valuable business relationships. In addition\, attendees will have the opportunity to hear from Gaffney's owner and community leader for the past 30+ years\, John Baker. John will discuss the development of Saratoga\, how Caroline Street has developed into what it is\, what the future holds in Saratoga and how you can play an active part in the future. Thank you to the Adirondack Trust Company for sponsoring the 2014 Saratoga Young Professionals Network.
X-ALT-DESC;FMTTYPE=text/html:<p>10 Minutes with John Baker\, Owner of Gaffney's</p><p><span>The Saratoga Young Professionals Network will meet at Gaffney's\,&nbsp\;one of the longest tenured locations in Saratoga Springs for their monthly networking event. Attendees will have the opportunity to network with fellow attendees\, enjoy hors d'oeuvres and drink specials while building valuable business relationships. In addition\, attendees will have the opportunity to hear from Gaffney's owner and community leader for the past 30+ years\, John Baker. John will discuss the development of Saratoga\, how Caroline Street has developed into what it is\, what the future holds in Saratoga and how you can play an active part in the future. Thank you to the Adirondack Trust Company for sponsoring the 2014 Saratoga Young Professionals Network.</span></p>
LOCATION:Gaffney's
UID:e.2254.564
SEQUENCE:3
DTSTAMP:20260424T093359Z
URL:https://chamber.saratoga.org/events/details/saratoga-young-professionals-network-11-04-2014-564
END:VEVENT

END:VCALENDAR
