BEGIN:VCALENDAR
VERSION:2.0
PRODID:-//ChamberMaster//Event Calendar 2.0//EN
METHOD:PUBLISH
X-PUBLISHED-TTL:P3D
REFRESH-INTERVAL:P3D
CALSCALE:GREGORIAN
BEGIN:VEVENT
DTSTART:20150414T210000Z
DTEND:20150414T230000Z
X-MICROSOFT-CDO-ALLDAYEVENT:FALSE
SUMMARY:Saratoga Young Professionals Network-10 Minutes with Jamie Parillo
DESCRIPTION:The April Saratoga Young Professionals event will take the group to the Saratoga Springs History Museum (Canfield Casino) for an evening of networking. Come out and learn the history of the museum while viewing the exhibits over hors d'oeuvres and drink specials. Jamie Parillo\, Executive Director of the Saratoga Springs History Museum\, will speak for 10 minutes about the display\, Mapping a City: Saratoga Springs as Seen Through 250 Years of Maps. Be sure to RSVP as this event will provide you with a sneak peek to the display! Thank you to The Adirondack Trust Company for sponsoring the 2015 Saratoga Young Professionals Network and to Symphony Catering for providing the food and beverage for the event.\n\n\n\nInformation about the display:\n\nMapping a City: Saratoga Springs as Seen Through 250 Years of Maps\n\nMapping a City tells the Story of Saratoga Springs by taking the visitor on a tour of the city's development from the 18th century to today.  This exhibit incorporates over 20 original and reproduction maps along with supporting materials and videos to document the development of Saratoga Springs' business\, civic life\, transportation and tourism.  This exhibit has been curated in partnership between the History Museum\, Tang Teaching Museum\, Skidmore College\, the Saratoga Room of the Public Library the City and Count Historian's offices.  Major funding provided by the Alfred Z. Solomon Charitable Trust.  The exhibit is open through December 31.
X-ALT-DESC;FMTTYPE=text/html:<p style="line-height:15.6pt"><span style="font-size: 10pt\; font-family: Arial\, sans-serif\;">The April Saratoga Young Professionals event will take the group to the Saratoga Springs History Museum (Canfield Casino) for an evening of networking. Come out and learn the history of the museum while viewing the exhibits over hors d&#39\;oeuvres and drink specials. Jamie<span class="apple-converted-space">&nbsp\;</span><span class="scayt-misspell-word"><span data-scayt-word="Parillo" style="background-position-x:50%\;background-position-y:\n100%">Parillo</span></span>\, Executive Director of the Saratoga Springs History Museum\, will speak for 10 minutes about the display\,&nbsp\;Mapping a City: Saratoga Springs as Seen Through 250 Years of Maps. Be sure to RSVP as this event will provide you with a sneak peek to the display! Thank you to The Adirondack Trust Company for sponsoring the 2015 Saratoga Young Professionals Network and to Symphony Catering for providing the food and beverage for the event.<br />\n<br />\nInformation about the display:<o:p></o:p></span></p>\n\n<p style="line-height: 15.6pt\;"><span style="font-size: 10pt\; font-family: Arial\, sans-serif\;">Mapping a City: Saratoga Springs as Seen Through 250 Years of Maps<br />\nMapping a City tells the Story of Saratoga Springs by taking the visitor on a tour of the city&rsquo\;s development from the 18<sup>th</sup><span class="apple-converted-space">&nbsp\;</span>century to today.&nbsp\; This exhibit incorporates over 20 original and reproduction maps along with supporting materials and videos to document the development of Saratoga Springs&rsquo\; business\, civic life\, transportation and tourism.&nbsp\; This exhibit has been<span class="apple-converted-space">&nbsp\;</span><span class="scayt-misspell-word"><span data-scayt-word="curated" style="background-position-x:50%\;background-position-y:\n100%">curated</span></span><span class="apple-converted-space">&nbsp\;</span>in partnership between the History Museum\, Tang Teaching Museum\,<span class="apple-converted-space">&nbsp\;</span><span class="scayt-misspell-word"><span data-scayt-word="Skidmore" style="background-position-x:50%\;background-position-y:\n100%">Skidmore</span></span><span class="apple-converted-space">&nbsp\;</span>College\, the Saratoga Room of the Public Library the City and Count Historian&rsquo\;s offices.&nbsp\; Major funding provided by the Alfred Z. Solomon Charitable Trust.&nbsp\; The exhibit is open through December 31.<o:p></o:p></span></p>\n
LOCATION:Saratoga Springs History Museum (Canfield Casino) E Congress Street Saratoga Springs\, NY 12866
UID:e.2254.5325
SEQUENCE:3
DTSTAMP:20260423T214541Z
URL:https://chamber.saratoga.org/events/details/saratoga-young-professionals-network-10-minutes-with-jamie-parillo-04-14-2015-5325
END:VEVENT

END:VCALENDAR
