BEGIN:VCALENDAR
VERSION:2.0
PRODID:-//ChamberMaster//Event Calendar 2.0//EN
METHOD:PUBLISH
X-PUBLISHED-TTL:P3D
REFRESH-INTERVAL:P3D
CALSCALE:GREGORIAN
BEGIN:VEVENT
DTSTART:20141007T200000Z
DTEND:20141007T220000Z
X-MICROSOFT-CDO-ALLDAYEVENT:FALSE
SUMMARY:Saratoga Young Professionals Network
DESCRIPTION:Networking and relationship building at NaNolaThe Saratoga Young Professionals Network will meet at Nanola an evening of networking and relationship building at Nanola. A locally owned restaurant by young professional Shane Spillenger\, Nanola specializes in Cajun cuisine and has fun\, friendly environment. You are invited to enjoy food samples\, drink specials\, networking all while supporting a fellow young professional business owner. Thank you to the Adirondack Trust Company for sponsoring the 2014 Saratoga Young Professionals Network.
X-ALT-DESC;FMTTYPE=text/html:<p>Networking and relationship building at NaNola</p><p><span style="font-size: 7.5pt\; font-family: 'Verdana'\,'sans-serif'\; color: black\;">The Saratoga Young Professionals Network will meet at Nanola an evening of networking and relationship building at Nanola.&nbsp\;A locally owned restaurant by young professional Shane Spillenger\, Nanola specializes in Cajun cuisine and has fun\, friendly environment. You are invited to enjoy food samples\, drink specials\, networking all while supporting a fellow young professional business owner. Thank you to the Adirondack Trust Company for sponsoring the 2014 Saratoga Young Professionals Network.</span></p>
LOCATION:Nanola
UID:e.2254.563
SEQUENCE:3
DTSTAMP:20260424T110810Z
URL:https://chamber.saratoga.org/events/details/saratoga-young-professionals-network-10-07-2014-563
END:VEVENT

END:VCALENDAR
